BEGIN:VCALENDAR
VERSION:2.0
PRODID:-//Innovate Orlando - ECPv6.15.15//NONSGML v1.0//EN
CALSCALE:GREGORIAN
METHOD:PUBLISH
X-WR-CALNAME:Innovate Orlando
X-ORIGINAL-URL:https://innovateorlando.io
X-WR-CALDESC:Events for Innovate Orlando
REFRESH-INTERVAL;VALUE=DURATION:PT1H
X-Robots-Tag:noindex
X-PUBLISHED-TTL:PT1H
BEGIN:VTIMEZONE
TZID:-04:00
END:VTIMEZONE
BEGIN:VEVENT
DTSTART;TZID=-04:00:20260408T180000
DTEND;TZID=-04:00:20260408T210000
DTSTAMP:20260424T073945
CREATED:20260311T082851Z
LAST-MODIFIED:20260325T132954Z
UID:10000229-1775671200-1775682000@innovateorlando.io
SUMMARY:AWS GameDay – AI Edition (with HashiCorp + New Relic)
DESCRIPTION:Cross Event: https://www.meetup.com/orlandoaws/events/313378113/ \nJoin us for an official **AI-focused AWS GameDay** experience at Downtown UCF! \n**🎮 What is AWS GameDay?**\nThink hackathon meets workshop. It’s a hands-on\, interactive\, team-based experience where you solve real-world cloud challenges in a live AWS environment. You earn points\, and the top 3 teams will win prizes courtesy of AWS\, HashiCorp\, and New Relic. \nYou and your team (2–4 people) will: \n* Deploy and troubleshoot live AWS workloads\n* Solve architecture and operational challenges\n* Earn points on a real-time leaderboard\n* Compete in a friendly but intense cloud showdown \nThis is a beginner-friendly event – even if you have never seen the AWS Console before\, you have the chance to win. Strategy and problem-solving skills can trump AWS experience. \n**Who’s Involved?**\nAWS and industry partners HashiCorp and New Relic power this GameDay. The official AWS GameDay team will stand up and manage the entire environment\, provision accounts\, and guide the experience. Additionally\, we’ll have local AWS employees supporting throughout the night. \n**What to Expect** \n* 2–3 hours of immersive\, competitive cloud challenges\n* Real AWS infrastructure (no simulations)\n* Food & refreshments \nWhether you’re: \n* A student exploring cloud\,\n* A developer looking to sharpen your skills\,\n* A DevOps engineer who thrives under pressure\,\n* Or a solutions architect ready to prove it… \nThis is your arena. \n**💻 What You Need**\nJust bring your charged laptop.\nWe’ll handle the rest.\nTeams can come pre-formed\, or we’ll help match you up.
URL:https://innovateorlando.io/event/aws-gameday-ai-edition-with-hashicorp-new-relic/
LOCATION:UCF Downtown\, 500 West Livingston Street\, Orlando\, FL\, 32801\, United States
ATTACH;FMTTYPE=image/jpeg:https://innovateorlando.io/wp-content/uploads/2026/03/1024x576-mgfiF9.jpg
GEO:28.546534;-81.38629
X-APPLE-STRUCTURED-LOCATION;VALUE=URI;X-ADDRESS=UCF Downtown 500 West Livingston Street Orlando FL 32801 United States;X-APPLE-RADIUS=500;X-TITLE=500 West Livingston Street:geo:-81.38629,28.546534
END:VEVENT
BEGIN:VEVENT
DTSTART;TZID=-04:00:20260408T180000
DTEND;TZID=-04:00:20260408T210000
DTSTAMP:20260424T073945
CREATED:20260219T201503Z
LAST-MODIFIED:20260408T055736Z
UID:10000204-1775671200-1775682000@innovateorlando.io
SUMMARY:AWS GameDay – AI Edition (with HashiCorp + New Relic) - PRIZES
DESCRIPTION:Join us for an official **AI-focused AWS GameDay** experience at Downtown UCF! \n**🎮 What is AWS GameDay?**\nThink hackathon meets workshop. It’s a hands-on\, interactive\, team-based experience where you solve real-world cloud challenges in a live AWS environment. You earn points\, and the top 3 teams will win prizes courtesy of AWS\, HashiCorp\, and New Relic. \nYou and your team (2–4 people) will: \n* Deploy and troubleshoot live AWS workloads\n* Solve architecture and operational challenges\n* Earn points on a real-time leaderboard\n* Compete in a friendly but intense cloud showdown \nThis is a beginner-friendly event – even if you have never seen the AWS Console before\, you have the chance to win. Strategy and problem-solving skills can trump AWS experience. \n**Who’s Involved?**\nAWS and industry partners HashiCorp and New Relic power this GameDay. The official AWS GameDay team will stand up and manage the entire environment\, provision accounts\, and guide the experience. Additionally\, we’ll have local AWS employees supporting throughout the night. \n**What to Expect** \n* 2–3 hours of immersive\, competitive cloud challenges\n* Real AWS infrastructure (no simulations)\n* Food & refreshments \nWhether you’re: \n* A student exploring cloud\,\n* A developer looking to sharpen your skills\,\n* A DevOps engineer who thrives under pressure\,\n* Or a solutions architect ready to prove it… \nThis is your arena. \n**💻 What You Need**\nJust bring your charged laptop.\nWe’ll handle the rest.\nTeams can come pre-formed\, or we’ll help match you up.
URL:https://innovateorlando.io/event/orlando-aws-gameday-ai-edition/
LOCATION:UCF Downtown\, 500 West Livingston Street\, Orlando\, FL\, 32801\, United States
ATTACH;FMTTYPE=image/jpeg:https://innovateorlando.io/wp-content/uploads/2026/02/1024x576-lpXlow.jpg
GEO:28.546534;-81.38629
X-APPLE-STRUCTURED-LOCATION;VALUE=URI;X-ADDRESS=UCF Downtown 500 West Livingston Street Orlando FL 32801 United States;X-APPLE-RADIUS=500;X-TITLE=500 West Livingston Street:geo:-81.38629,28.546534
END:VEVENT
BEGIN:VEVENT
DTSTART;TZID=-04:00:20260318T183000
DTEND;TZID=-04:00:20260318T210000
DTSTAMP:20260424T073945
CREATED:20260211T044955Z
LAST-MODIFIED:20260318T082934Z
UID:10000189-1773858600-1773867600@innovateorlando.io
SUMMARY:ODevs in March!
DESCRIPTION:Join ODevs and Orlando DevOps for an evening of presentations\, conversations\, and community connections. \n🟢Shift to the Right: How AI-driven Development Affects CI/CD Cost and Developer Velocity \nSpeaker: [Catalino Cuadrado](https://www.linkedin.com/in/catalino-cuadrado/)\, Senior Solution Architect at Buildkite\, explores how AI-driven development is reshaping CI/CD pipelines\, engineering costs\, and developer velocity. \n🟢Git Branching Strategies & Workflows \nSpeaker: [Luis Hernandez](https://www.linkedin.com/in/lf-hernandez/)\, Senior Software Engineer\, Adjunct Instructor\, will be providing a practical deep-dive into Trunk-Based Development\, GitHub Flow\, Git Flow\, and GitLab Flow. Demo will be covering CI/CD pipelines\, hotfixes\, and rollbacks. \nFree street parking is available after 6 PM.
URL:https://innovateorlando.io/event/odevs-in-march/
LOCATION:UCF Downtown\, 500 West Livingston Street\, Orlando\, FL\, 32801\, United States
GEO:28.546534;-81.38629
X-APPLE-STRUCTURED-LOCATION;VALUE=URI;X-ADDRESS=UCF Downtown 500 West Livingston Street Orlando FL 32801 United States;X-APPLE-RADIUS=500;X-TITLE=500 West Livingston Street:geo:-81.38629,28.546534
END:VEVENT
BEGIN:VEVENT
DTSTART;TZID=-04:00:20260318T183000
DTEND;TZID=-04:00:20260318T210000
DTSTAMP:20260424T073945
CREATED:20260211T044955Z
LAST-MODIFIED:20260211T044955Z
UID:10000188-1773858600-1773867600@innovateorlando.io
SUMMARY:ODevs in March!
DESCRIPTION:Join ODevs for an evening of presentations\, conversations\, and community connections. \nSpeaker details TBD.
URL:https://innovateorlando.io/event/odevs-in-march-2/
LOCATION:UCF Downtown\, 500 West Livingston Street\, Orlando\, FL\, 32801\, United States
GEO:28.546534;-81.38629
X-APPLE-STRUCTURED-LOCATION;VALUE=URI;X-ADDRESS=UCF Downtown 500 West Livingston Street Orlando FL 32801 United States;X-APPLE-RADIUS=500;X-TITLE=500 West Livingston Street:geo:-81.38629,28.546534
END:VEVENT
END:VCALENDAR