BEGIN:VCALENDAR
VERSION:2.0
PRODID:-//Innovate Orlando - ECPv6.15.15//NONSGML v1.0//EN
CALSCALE:GREGORIAN
METHOD:PUBLISH
X-ORIGINAL-URL:https://innovateorlando.io
X-WR-CALDESC:Events for Innovate Orlando
REFRESH-INTERVAL;VALUE=DURATION:PT1H
X-Robots-Tag:noindex
X-PUBLISHED-TTL:PT1H
BEGIN:VTIMEZONE
TZID:-04:00
END:VTIMEZONE
BEGIN:VEVENT
DTSTART;TZID=-04:00:20260406T190000
DTEND;TZID=-04:00:20260406T210000
DTSTAMP:20260422T095302
CREATED:20260211T044807Z
LAST-MODIFIED:20260406T071302Z
UID:10000184-1775502000-1775509200@innovateorlando.io
SUMMARY:DevOps Lean Coffee
DESCRIPTION:Come prepared with some ideas or just listen in. [Lean Coffee](https://leancoffee.org/ “https://leancoffee.org/”) is a quick Kanban style of organizing technical discussions for 10-15 people across many topics. We’ll start discussing and voting on the topics by 7:15 and go until we run out (or we’re past closing time). \nAll are welcome\, whether you’re currently working full-time in DevOps or are just passively curious. \nJoin us on [ODevs Discord](https://discord.com/invite/GGGKZDDtSz) if you have question or just want to chat.
URL:https://innovateorlando.io/event/devops-lean-coffee/
LOCATION:Outpost Neighborhood Tavern\, 227 N Eola Dr\, Orlando\, FL\, 32801\, United States
ATTACH;FMTTYPE=image/jpeg:https://innovateorlando.io/wp-content/uploads/2026/02/1024x576-cUEEr5.jpg
GEO:28.545582;-81.369545
X-APPLE-STRUCTURED-LOCATION;VALUE=URI;X-ADDRESS=Outpost Neighborhood Tavern 227 N Eola Dr Orlando FL 32801 United States;X-APPLE-RADIUS=500;X-TITLE=227 N Eola Dr:geo:-81.369545,28.545582
END:VEVENT
BEGIN:VEVENT
DTSTART;TZID=-04:00:20260309T190000
DTEND;TZID=-04:00:20260309T210000
DTSTAMP:20260422T095302
CREATED:20260211T044803Z
LAST-MODIFIED:20260309T055809Z
UID:10000183-1773082800-1773090000@innovateorlando.io
SUMMARY:DevOps Storytime Social
DESCRIPTION:Come join us again at Outpost Neighborhood Tavern for food and beer or whatnot as we gather to share and listen to members stories. Every other month we will have story topics and welcome everyone to share their story. Stories are generally around 10 minutes in length with some Q&A after each one. \nThere is no need for a slide deck\, or computer. These are meant to be like just hanging around the bar\, with your friends\, telling a story… Because that is just exactly what it is.
URL:https://innovateorlando.io/event/devops-storytime-social/
LOCATION:Outpost Neighborhood Tavern\, 227 N Eola Dr\, Orlando\, FL\, 32801\, United States
ATTACH;FMTTYPE=image/jpeg:https://innovateorlando.io/wp-content/uploads/2026/02/1024x576-YbZXwd.jpg
GEO:28.545582;-81.369545
X-APPLE-STRUCTURED-LOCATION;VALUE=URI;X-ADDRESS=Outpost Neighborhood Tavern 227 N Eola Dr Orlando FL 32801 United States;X-APPLE-RADIUS=500;X-TITLE=227 N Eola Dr:geo:-81.369545,28.545582
END:VEVENT
END:VCALENDAR