BEGIN:VCALENDAR
VERSION:2.0
PRODID:-//Innovate Orlando - ECPv6.15.15//NONSGML v1.0//EN
CALSCALE:GREGORIAN
METHOD:PUBLISH
X-ORIGINAL-URL:https://innovateorlando.io
X-WR-CALDESC:Events for Innovate Orlando
REFRESH-INTERVAL;VALUE=DURATION:PT1H
X-Robots-Tag:noindex
X-PUBLISHED-TTL:PT1H
BEGIN:VTIMEZONE
TZID:America/New_York
BEGIN:DAYLIGHT
TZOFFSETFROM:-0500
TZOFFSETTO:-0400
TZNAME:EDT
DTSTART:20250309T070000
END:DAYLIGHT
BEGIN:STANDARD
TZOFFSETFROM:-0400
TZOFFSETTO:-0500
TZNAME:EST
DTSTART:20251102T060000
END:STANDARD
BEGIN:DAYLIGHT
TZOFFSETFROM:-0500
TZOFFSETTO:-0400
TZNAME:EDT
DTSTART:20260308T070000
END:DAYLIGHT
BEGIN:STANDARD
TZOFFSETFROM:-0400
TZOFFSETTO:-0500
TZNAME:EST
DTSTART:20261101T060000
END:STANDARD
BEGIN:DAYLIGHT
TZOFFSETFROM:-0500
TZOFFSETTO:-0400
TZNAME:EDT
DTSTART:20270314T070000
END:DAYLIGHT
BEGIN:STANDARD
TZOFFSETFROM:-0400
TZOFFSETTO:-0500
TZNAME:EST
DTSTART:20271107T060000
END:STANDARD
END:VTIMEZONE
BEGIN:VEVENT
DTSTART;TZID=America/New_York:20260512T173000
DTEND;TZID=America/New_York:20260512T193000
DTSTAMP:20260421T095108
CREATED:20260416T071238Z
LAST-MODIFIED:20260421T080224Z
UID:10000282-1778607000-1778614200@innovateorlando.io
SUMMARY:Women in Tech & Entrepreneurship - Orlando Chapter Happy Hour
DESCRIPTION:a casual gathering of high-performing\, non-conforming women founders\, tech workers\, VCs\, and hype girls\n\n\nJoin us for the Women in Tech & Entrepreneurship Orlando Chapter monthly happy hour!  Our goal is to resource women in technology and entrepreneurship with near-peer mentorship\, educational opportunities\, and a support network.   \nJoin us for dues-free\, no-cost monthly networking opportunities – because financial barriers should never limit our opportunities for success and support. \n5:30 – 7:30 PM Happy Hour at Ivanhoe Brewery: \nOur monthly happy hours serve as an opportunity to connect\, build relationships\, discuss challenges\, and chart the way ahead. \nAn independent craft brewery and tasting room located in the historic Ivanhoe District of Orlando\, Florida\, Ivanhoe Park Brewing Company offers a cash bar and plenty of parking for the members of Women in Tech & Entrepreneurship (WTE) Orlando to connect and celebrate. \n\n\n\n\nAbout Women in Tech & Entrepreneurship (WTE)\nA groundbreaking organization focused on advancing women in technology and entrepreneurship sectors\, Women in Tech & Entrepreneurship (WTE) operates on a unique\, dues-free\, member-led model with local chapters across multiple cities and one unifying\, virtual hub for member networking and connection. WTE offers a dynamic platform where women can access educational content\, business resources\, industry insights\, and near-peer mentorship with other ambitious leaders\, all without the burden of membership fees.
URL:https://innovateorlando.io/event/women-in-tech-entrepreneurship-orlando-chapter-happy-hour/
LOCATION:Ivanhoe Park Brewing Company\, 1300 Alden Road\, Orlando\, FL\, 32803\, United States
ATTACH;FMTTYPE=image/jpeg:https://innovateorlando.io/wp-content/uploads/2026/04/e3ced7455f1f42fcf673f7287cb90b88.jpg
END:VEVENT
END:VCALENDAR