BEGIN:VCALENDAR
VERSION:2.0
PRODID:-//Innovate Orlando - ECPv6.15.15//NONSGML v1.0//EN
CALSCALE:GREGORIAN
METHOD:PUBLISH
X-ORIGINAL-URL:https://innovateorlando.io
X-WR-CALDESC:Events for Innovate Orlando
REFRESH-INTERVAL;VALUE=DURATION:PT1H
X-Robots-Tag:noindex
X-PUBLISHED-TTL:PT1H
BEGIN:VTIMEZONE
TZID:America/New_York
BEGIN:DAYLIGHT
TZOFFSETFROM:-0500
TZOFFSETTO:-0400
TZNAME:EDT
DTSTART:20250309T070000
END:DAYLIGHT
BEGIN:STANDARD
TZOFFSETFROM:-0400
TZOFFSETTO:-0500
TZNAME:EST
DTSTART:20251102T060000
END:STANDARD
BEGIN:DAYLIGHT
TZOFFSETFROM:-0500
TZOFFSETTO:-0400
TZNAME:EDT
DTSTART:20260308T070000
END:DAYLIGHT
BEGIN:STANDARD
TZOFFSETFROM:-0400
TZOFFSETTO:-0500
TZNAME:EST
DTSTART:20261101T060000
END:STANDARD
BEGIN:DAYLIGHT
TZOFFSETFROM:-0500
TZOFFSETTO:-0400
TZNAME:EDT
DTSTART:20270314T070000
END:DAYLIGHT
BEGIN:STANDARD
TZOFFSETFROM:-0400
TZOFFSETTO:-0500
TZNAME:EST
DTSTART:20271107T060000
END:STANDARD
END:VTIMEZONE
BEGIN:VEVENT
DTSTART;TZID=America/New_York:20260318T173000
DTEND;TZID=America/New_York:20260318T193000
DTSTAMP:20260419T114624
CREATED:20260304T042844Z
LAST-MODIFIED:20260318T045833Z
UID:10000219-1773855000-1773862200@innovateorlando.io
SUMMARY:Women in Tech & Entrepreneurship - March Ft. Myers Chapter Happy Hour
DESCRIPTION:a casual gathering of high-performing\, non-conforming women founders\, tech workers\, VCs\, and hype girls\n\n\nJoin the Women in Tech & Entrepreneurship (WTE) Fort Myers Chapter for a March Happy Hour at Hogwash! \nGet ready for a night of craft cocktails and great conversation with local women founders\, tech pros\, creatives\, and community builders — all in a space that feels equal parts cool and convivial. This isn’t a lecture or panel — it’s a chance to slow down\, sip something delicious\, and connect with incredible people pushing innovation and entrepreneurship forward in Fort Myers. \nSettle into the sultry Art Deco-inspired vibe of Hogwash\, where expertly crafted drinks and immersive ambiance set the mood for meeting new friends\, trading ideas\, and building community with Women in Tech & Entrepreneurship in one of downtown’s most talked-about lounges. \nWhether you’re catching up with familiar faces or making a connection that sparks something great\, this happy hour is your moment to enjoy good drinks\, good energy\, and good company — all while celebrating the creative and tech-driven minds making waves in Southwest Florida. \n \nWhat to Expect:\nWarm Welcome: Come as you are\, come when you can. There’s no such thing as late\, over dressed\, underdressed – whatever – at a WTE event. At our events you’ll meet a warm and welcoming community of supportive\, ambitious women who want to meet you! \nBetter Networking: We think differently at Women in Tech & Entrepreneurship. We want to connect about ideas\, industry disruptions\, personal passions\, and big audacious dreams. We keep our events simple so we can focus our energy on authentic connections\, and the culture we’ve created leads to better connections and deeper relationships for our members. \nInteresting People at Every Stage of Their Journeys: Whether you’re a seasoned professional or just starting your journey\, there’s someone here for you. We’re proud to be 3X more diverse than the tech sector as a whole and we’re all on unique journeys – which means we all offer out-of-the-box perspectives to help every member breakthrough and level up. \n\n\n\nVenue Spotlight: Hogwash\nThis month\, our Ft. Myers Chapter is gathering at Hogwash\, a stylish and spirited gastropub where craft cocktails\, elevated comfort food\, and a playful atmosphere come together. With a menu full of bold flavors—from crispy pork belly bites to truffle mac—and a bar program that takes its whiskey seriously\, Hogwash offers the perfect setting for connection\, laughter\, and community. \nWhether you’re sipping something smoky or catching up over sharable plates\, Hogwash delivers a memorable experience and a vibrant space for Women in Tech & Entrepreneurship to build lasting relationships. \n🥃 PS: To keep our membership and events FREE\, food and drinks at this event will be self-pay. Want to sponsor this event (and treat the crew to a round)? Reach out to us at sponsorships@wte.network! \n\n\n\nAbout Women in Tech & Entrepreneurship (WTE)\nA groundbreaking organization focused on advancing women in technology and entrepreneurship sectors\, Women in Tech & Entrepreneurship (WTE) operates on a unique\, dues-free\, member-led model with local chapters across multiple cities and one unifying\, virtual hub for member networking and connection. WTE offers a dynamic platform where women can access educational content\, business resources\, industry insights\, and near-peer mentorship with other ambitious leaders\, all without the burden of membership fees.
URL:https://innovateorlando.io/event/women-in-tech-entrepreneurship-march-ft-meyers-chapter-happy-hour/
LOCATION:Hogwash\, 1415 Dean Street\, #101\, Fort Myers\, FL\, 33901\, United States
ATTACH;FMTTYPE=image/jpeg:https://innovateorlando.io/wp-content/uploads/2026/03/902a4c5c44afbb6af854c5ea6474c79f.jpg
END:VEVENT
BEGIN:VEVENT
DTSTART;TZID=America/New_York:20260121T173000
DTEND;TZID=America/New_York:20260121T193000
DTSTAMP:20260419T114624
CREATED:20260107T012721Z
LAST-MODIFIED:20260121T025704Z
UID:10000083-1769016600-1769023800@innovateorlando.io
SUMMARY:Women in Tech & Entrepreneurship - Ft Myers Chapter New Year Party
DESCRIPTION:a casual gathering of high-performing\, non-conforming women founders\, tech workers\, VCs\, and hype girls\n\n\nJoin us for the Women in Tech & Entrepreneurship Ft Myers Chapter New Year Celebration! Our goal is to resource women in technology and entrepreneurship with near-peer mentorship\, educational opportunities\, and a support network. \nJoin us for dues-free\, no-cost monthly networking opportunities – because financial barriers should never limit our opportunities for success and support. \n \nWhat to Expect:\nWarm Welcome: Come as you are\, come when you can. There’s no such thing as late\, over dressed\, underdressed – whatever – at a WTE event. At our events you’ll meet a warm and welcoming community of supportive\, ambitious women who want to meet you! \nBetter Networking: We think differently at Women in Tech & Entrepreneurship. We want to connect about ideas\, industry disruptions\, personal passions\, and big audacious dreams. We keep our events simple so we can focus our energy on authentic connections\, and the culture we’ve created leads to better connections and deeper relationships for our members. \nInteresting People at Every Stage of Their Journeys: Whether you’re a seasoned professional or just starting your journey\, there’s someone here for you. We’re proud to be 3X more diverse than the tech sector as a whole and we’re all on unique journeys – which means we all offer out-of-the-box perspectives to help every member breakthrough and level up. \n\n\n\nVenue Spotlight: Hogwash\nThis month\, our Ft. Myers Chapter is gathering at Hogwash\, a stylish and spirited gastropub where craft cocktails\, elevated comfort food\, and a playful atmosphere come together. With a menu full of bold flavors—from crispy pork belly bites to truffle mac—and a bar program that takes its whiskey seriously\, Hogwash offers the perfect setting for connection\, laughter\, and community. \nWhether you’re sipping something smoky or catching up over sharable plates\, Hogwash delivers a memorable experience and a vibrant space for Women in Tech & Entrepreneurship to build lasting relationships. \n🥃 PS: To keep our membership and events FREE\, food and drinks at this event will be self-pay. Want to sponsor this event (and treat the crew to a round)? Reach out to us at sponsorships@wte.network! \n\n\n\nAbout Women in Tech & Entrepreneurship (WTE)\nA groundbreaking organization focused on advancing women in technology and entrepreneurship sectors\, Women in Tech & Entrepreneurship (WTE) operates on a unique\, dues-free\, member-led model with local chapters across multiple cities and one unifying\, virtual hub for member networking and connection. WTE offers a dynamic platform where women can access educational content\, business resources\, industry insights\, and near-peer mentorship with other ambitious leaders\, all without the burden of membership fees.
URL:https://innovateorlando.io/event/women-in-tech-entrepreneurship-ft-myers-chapter-new-year-party/
LOCATION:Hogwash\, 1415 Dean Street\, #101\, Fort Myers\, FL\, 33901\, United States
ATTACH;FMTTYPE=image/jpeg:https://innovateorlando.io/wp-content/uploads/2026/01/cb5e264799616e4dcb2445716ac59a1f-1.jpg
END:VEVENT
END:VCALENDAR