BEGIN:VCALENDAR
VERSION:2.0
PRODID:-//Innovate Orlando - ECPv6.15.15//NONSGML v1.0//EN
CALSCALE:GREGORIAN
METHOD:PUBLISH
X-ORIGINAL-URL:https://innovateorlando.io
X-WR-CALDESC:Events for Innovate Orlando
REFRESH-INTERVAL;VALUE=DURATION:PT1H
X-Robots-Tag:noindex
X-PUBLISHED-TTL:PT1H
BEGIN:VTIMEZONE
TZID:America/New_York
BEGIN:DAYLIGHT
TZOFFSETFROM:-0500
TZOFFSETTO:-0400
TZNAME:EDT
DTSTART:20240310T070000
END:DAYLIGHT
BEGIN:STANDARD
TZOFFSETFROM:-0400
TZOFFSETTO:-0500
TZNAME:EST
DTSTART:20241103T060000
END:STANDARD
BEGIN:DAYLIGHT
TZOFFSETFROM:-0500
TZOFFSETTO:-0400
TZNAME:EDT
DTSTART:20250309T070000
END:DAYLIGHT
BEGIN:STANDARD
TZOFFSETFROM:-0400
TZOFFSETTO:-0500
TZNAME:EST
DTSTART:20251102T060000
END:STANDARD
BEGIN:DAYLIGHT
TZOFFSETFROM:-0500
TZOFFSETTO:-0400
TZNAME:EDT
DTSTART:20260308T070000
END:DAYLIGHT
BEGIN:STANDARD
TZOFFSETFROM:-0400
TZOFFSETTO:-0500
TZNAME:EST
DTSTART:20261101T060000
END:STANDARD
END:VTIMEZONE
BEGIN:VEVENT
DTSTART;TZID=America/New_York:20251118T173000
DTEND;TZID=America/New_York:20251118T193000
DTSTAMP:20260421T045724
CREATED:20251118T183053Z
LAST-MODIFIED:20251118T183056Z
UID:10000009-1763487000-1763494200@innovateorlando.io
SUMMARY:Women in Tech & Entrepreneurship- Jacksonville Holiday Party
DESCRIPTION:a casual gathering of high-performing\, non-conforming women founders\, tech workers\, VCs\, and hype girls\n\n\nCelebrate the holidays and a year of fabulous impact with our Women in Tech & Entrepreneurship Jacksonville Chapter. \nOur mission is to empower women in technology and entrepreneurship with near-peer mentorship\, educational opportunities\, and a supportive network. WTE offers regular\, dues-free\, cost-free networking opportunities\, ensuring that financial obstacles do not deter our members from accessing the resources they need. We’re here to build\, sustain\, and elevate a community that supports the ambitions of women in tech and entrepreneurship. \n \nWhat to Expect:\nWarm Welcome: Come as you are\, come when you can. There’s no such thing as late\, over dressed\, underdressed – whatever – at a WTE event. At our events you’ll meet a warm and welcoming community of supportive\, ambitious women who want to meet you! \nBetter Networking: We think differently at Women in Tech & Entrepreneurship. We want to connect about ideas\, industry disruptions\, personal passions\, and big audacious dreams. We keep our events simple so we can focus our energy on authentic connections\, and the culture we’ve created leads to better connections and deeper relationships for our members. \nInteresting People at Every Stage of Their Journeys: Whether you’re a seasoned professional or just starting your journey\, there’s someone here for you. We’re proud to be 3X more diverse than the tech sector as a whole and we’re all on unique journeys – which means we all offer out-of-the-box perspectives to help every member breakthrough and level up. \n\n\n\nVenue Spotlight: Gemma Oyster + Fish\nThis month\, our Jacksonville Chapter is gathering at Gemma Fish + Oyster\, a coastal-inspired dining experience that blends refined elegance with laid-back charm. Located in Jacksonville’s vibrant San Marco neighborhood\, Gemma is known for its fresh\, thoughtfully sourced seafood\, curated wine list\, and stunning interiors that evoke the easy luxury of a seaside escape. \n🦪 PS: To keep our membership and events FREE\, food and drinks at this event will be self-pay. Want to sponsor this event (and treat the crew)? Reach out to us at sponsorships@wte.network \n\n\n\nAbout Women in Tech & Entrepreneurship (WTE)\nA groundbreaking organization focused on advancing women in technology and entrepreneurship sectors\, Women in Tech & Entrepreneurship (WTE) operates on a unique\, dues-free\, member-led model with local chapters across multiple cities and one unifying\, virtual hub for member networking and connection. WTE offers a dynamic platform where women can access educational content\, business resources\, industry insights\, and near-peer mentorship with other ambitious leaders\, all without the burden of membership fees.
URL:https://innovateorlando.io/event/women-in-tech-entrepreneurship-jacksonville-holiday-party/
LOCATION:Gemma Fish + Oyster\, 2039 Hendricks Avenue\, #Unit 111\, Jacksonville\, FL\, 32207\, United States
ATTACH;FMTTYPE=image/jpeg:https://innovateorlando.io/wp-content/uploads/2025/11/e8b2852745d93d4d749b76697e8a688f.jpg
END:VEVENT
END:VCALENDAR