BEGIN:VCALENDAR
VERSION:2.0
PRODID:-//Innovate Orlando - ECPv6.15.15//NONSGML v1.0//EN
CALSCALE:GREGORIAN
METHOD:PUBLISH
X-ORIGINAL-URL:https://innovateorlando.io
X-WR-CALDESC:Events for Innovate Orlando
REFRESH-INTERVAL;VALUE=DURATION:PT1H
X-Robots-Tag:noindex
X-PUBLISHED-TTL:PT1H
BEGIN:VTIMEZONE
TZID:America/New_York
BEGIN:DAYLIGHT
TZOFFSETFROM:-0500
TZOFFSETTO:-0400
TZNAME:EDT
DTSTART:20250309T070000
END:DAYLIGHT
BEGIN:STANDARD
TZOFFSETFROM:-0400
TZOFFSETTO:-0500
TZNAME:EST
DTSTART:20251102T060000
END:STANDARD
BEGIN:DAYLIGHT
TZOFFSETFROM:-0500
TZOFFSETTO:-0400
TZNAME:EDT
DTSTART:20260308T070000
END:DAYLIGHT
BEGIN:STANDARD
TZOFFSETFROM:-0400
TZOFFSETTO:-0500
TZNAME:EST
DTSTART:20261101T060000
END:STANDARD
BEGIN:DAYLIGHT
TZOFFSETFROM:-0500
TZOFFSETTO:-0400
TZNAME:EDT
DTSTART:20270314T070000
END:DAYLIGHT
BEGIN:STANDARD
TZOFFSETFROM:-0400
TZOFFSETTO:-0500
TZNAME:EST
DTSTART:20271107T060000
END:STANDARD
END:VTIMEZONE
BEGIN:VEVENT
DTSTART;TZID=America/New_York:20260121T173000
DTEND;TZID=America/New_York:20260121T193000
DTSTAMP:20260419T115724
CREATED:20260107T012718Z
LAST-MODIFIED:20260121T025704Z
UID:10000082-1769016600-1769023800@innovateorlando.io
SUMMARY:Women in Tech & Entrepreneurship - Palm Beach Chapter New Year Celebration
DESCRIPTION:a casual gathering of high-performing\, non-conforming women founders\, tech workers\, VCs\, and hype girls\n\n\nWomen in Tech & Entrepreneurship (WTE) invites you to our upcoming Happy Hour event in Palm Beach. Connect with a vibrant community of women founders\, tech enthusiasts\, venture capitalists\, and advocates who are driving change in the tech and entrepreneurial landscape. \n \nOur Mission\nOur mission is to empower women in technology and entrepreneurship through near-peer mentorship\, educational opportunities\, and a supportive network. WTE offers regular\, dues-free\, cost-free networking events\, ensuring that financial barriers don’t stand in the way of accessing the resources you need. We are here to build\, sustain\, and elevate a community that supports the ambitions of women in tech and entrepreneurship worldwide. \n \nEvent Highlights\nNetworking Opportunities: Connect with like-minded professionals in a relaxed\, social setting. \nCommunity Building: Engage in conversations that can inspire and propel your career forward. \nLearn More About WTE: Discover how you can get involved and benefit from our resources. \n\n\n\nVenue Spotlight: Garden District Tap Room\nGarden District Tap Room is a chic and inviting venue that perfectly captures the innovative and community-driven spirit of Women in Tech & Entrepreneurship. Nestled in the heart of Palm Beach\, this stylish tap room offers a curated selection of craft beers and fine wines in a lush\, garden-inspired setting. With its elegant décor and warm ambiance\, Garden District Tap Room provides the ideal backdrop for an evening of networking\, conversation\, and community-building. Join us as we gather in this delightful space to connect\, share ideas\, and celebrate the growth of our Palm Beach Chapter. \nPS: In order to keep our community free for members\, food and drinks at our events are self-pay. If you’re interested in changing that (AKA sponsoring this event)\, reach out to us at sponsorships@wte.network! \n\n\n\nAbout Women in Tech & Entrepreneurship (WTE)\nA groundbreaking organization focused on advancing women in technology and entrepreneurship sectors\, Women in Tech & Entrepreneurship (WTE) operates on a unique\, dues-free\, member-led model with local chapters across multiple cities and one unifying\, virtual hub for member networking and connection. WTE offers a dynamic platform where women can access educational content\, business resources\, industry insights\, and near-peer mentorship with other ambitious leaders\, all without the burden of membership fees.
URL:https://innovateorlando.io/event/women-in-tech-entrepreneurship-palm-beach-chapter-new-year-celebration/
LOCATION:Garden District Taproom\, 410 Evernia Street\, #STE 119\, West Palm Beach\, FL\, 33401\, United States
ATTACH;FMTTYPE=image/jpeg:https://innovateorlando.io/wp-content/uploads/2026/01/d077f9bcf1f76aa887105889bd518fa3-1.jpg
END:VEVENT
END:VCALENDAR