BEGIN:VCALENDAR
VERSION:2.0
PRODID:-//Innovate Orlando - ECPv6.15.15//NONSGML v1.0//EN
CALSCALE:GREGORIAN
METHOD:PUBLISH
X-ORIGINAL-URL:https://innovateorlando.io
X-WR-CALDESC:Events for Innovate Orlando
REFRESH-INTERVAL;VALUE=DURATION:PT1H
X-Robots-Tag:noindex
X-PUBLISHED-TTL:PT1H
BEGIN:VTIMEZONE
TZID:America/New_York
BEGIN:DAYLIGHT
TZOFFSETFROM:-0500
TZOFFSETTO:-0400
TZNAME:EDT
DTSTART:20250309T070000
END:DAYLIGHT
BEGIN:STANDARD
TZOFFSETFROM:-0400
TZOFFSETTO:-0500
TZNAME:EST
DTSTART:20251102T060000
END:STANDARD
BEGIN:DAYLIGHT
TZOFFSETFROM:-0500
TZOFFSETTO:-0400
TZNAME:EDT
DTSTART:20260308T070000
END:DAYLIGHT
BEGIN:STANDARD
TZOFFSETFROM:-0400
TZOFFSETTO:-0500
TZNAME:EST
DTSTART:20261101T060000
END:STANDARD
BEGIN:DAYLIGHT
TZOFFSETFROM:-0500
TZOFFSETTO:-0400
TZNAME:EDT
DTSTART:20270314T070000
END:DAYLIGHT
BEGIN:STANDARD
TZOFFSETFROM:-0400
TZOFFSETTO:-0500
TZNAME:EST
DTSTART:20271107T060000
END:STANDARD
END:VTIMEZONE
BEGIN:VEVENT
DTSTART;TZID=America/New_York:20260127T183000
DTEND;TZID=America/New_York:20260127T203000
DTSTAMP:20260420T200538
CREATED:20260123T184855Z
LAST-MODIFIED:20260127T191150Z
UID:10000128-1769538600-1769545800@innovateorlando.io
SUMMARY:Creative Confluence 2026 — AIGA Orlando Town Hall
DESCRIPTION:Let’s kick off the new year with exciting new programming\, community connection\, and a spark of creativity. ✨\n\n\nKick off the new year at Creative Confluence\, AIGA Orlando’s 2026 Town Hall\, and our first Community Meetup of the year! Join us to reconnect with your local design community\, share your voice\, and help shape the future of our chapter through meaningful conversations. Your participation makes a difference. \nWhether you’re a longtime member\, a student\, or new to AIGA Orlando\, this meetup is your chance to meet the board\, connect with peers\, learn about upcoming events\, and contribute to our community’s growth. \n \nWhat to expect:\n\n👋 Get to know AIGA Orlando — who we are\, what we do\, and how you can get involved\n🎤 Meet the board — quick intros and what each role brings to the chapter\n📸 Professional headshots — quick\, on-site headshots for attendees (first-come\, first-served)\n💬 Open Q&A + small-group chats — honest conversations with board members\n🧠 Share your feedback — help shape future events\, programs\, and priorities\n\n \nEvent Details\nDate: Tuesday\, January 27\, 2026 \nTime: 6:30–8:30 PM \nLocation: Black Phin – Harmon Collective\, 1152 Harmon Ave\, Winter Park\, FL 32789 \nFood & drinks available for purchase \nTickets: Free (RSVP Required\, limited spots available) \n \n\n\nThank you to our venue sponsor! Black Phin \n\n\n\n \nPlease Note\nWhile this event is free for ALL\, please register (with Eventbrite) so we can notify you of any changes to this event. Thank you! \n \nCode of Conduct\nAIGA Orlando expects that all attendees treat each other with respect\, openness\, and in adherence to the guidelines specified in AIGA’s Code of Conduct\, which you can find here: AIGA Code of Conduct
URL:https://innovateorlando.io/event/creative-confluence-2026-aiga-orlando-town-hall/
LOCATION:Black Phin Coffee Bar\, 1152 Harmon Avenue\, Winter Park\, FL\, 32789\, United States
ATTACH;FMTTYPE=image/jpeg:https://innovateorlando.io/wp-content/uploads/2026/01/8b8ca17c43fdcf37bafc0b1b8c93f253-1.jpg
END:VEVENT
END:VCALENDAR