BEGIN:VCALENDAR
VERSION:2.0
PRODID:-//Innovate Orlando - ECPv6.15.15//NONSGML v1.0//EN
CALSCALE:GREGORIAN
METHOD:PUBLISH
X-WR-CALNAME:Innovate Orlando
X-ORIGINAL-URL:https://innovateorlando.io
X-WR-CALDESC:Events for Innovate Orlando
REFRESH-INTERVAL;VALUE=DURATION:PT1H
X-Robots-Tag:noindex
X-PUBLISHED-TTL:PT1H
BEGIN:VTIMEZONE
TZID:America/New_York
BEGIN:DAYLIGHT
TZOFFSETFROM:-0500
TZOFFSETTO:-0400
TZNAME:EDT
DTSTART:20250309T070000
END:DAYLIGHT
BEGIN:STANDARD
TZOFFSETFROM:-0400
TZOFFSETTO:-0500
TZNAME:EST
DTSTART:20251102T060000
END:STANDARD
BEGIN:DAYLIGHT
TZOFFSETFROM:-0500
TZOFFSETTO:-0400
TZNAME:EDT
DTSTART:20260308T070000
END:DAYLIGHT
BEGIN:STANDARD
TZOFFSETFROM:-0400
TZOFFSETTO:-0500
TZNAME:EST
DTSTART:20261101T060000
END:STANDARD
BEGIN:DAYLIGHT
TZOFFSETFROM:-0500
TZOFFSETTO:-0400
TZNAME:EDT
DTSTART:20270314T070000
END:DAYLIGHT
BEGIN:STANDARD
TZOFFSETFROM:-0400
TZOFFSETTO:-0500
TZNAME:EST
DTSTART:20271107T060000
END:STANDARD
END:VTIMEZONE
BEGIN:VEVENT
DTSTART;TZID=America/New_York:20260601T083000
DTEND;TZID=America/New_York:20260601T123000
DTSTAMP:20260421T184232
CREATED:20260303T084153Z
LAST-MODIFIED:20260421T181453Z
UID:10000214-1780302600-1780317000@innovateorlando.io
SUMMARY:GEMS WAITLIST
DESCRIPTION:Please complete this application to be added to our GEMS waitlist. If a spot opens up\, these applications will be considered first.\n\n\nINSTRUCTIONS FOR REGISTERING THROUGH EVENTBRITE: \n\nPLEASE NOTE: This is the application page to be on the GEMS waitlist. Due to overwhelming demand and limited capacity for GEMS our initial registrations for camp are closed. In the event a spot opens up\, these waitlist applications will be considered first.\nDue to the government shutdown\, there has been delays to the registration process for GEMS. This page is meant to address these delays and allow parents to reserve a spot for their camper(s) as the government registration site is being set up. Please note that this Eventbrite application is not a complete registration- a link will be sent out later to the GEMS Ideal Logic (government) page to finalize registration IF a spot opens up.\nIf you are registering multiple students\, please complete individual registrations for each student.
URL:https://innovateorlando.io/event/gems-waitlist/
LOCATION:3100 Technology Pkwy\, 3100 Technology Parkway\, Orlando\, FL\, 32826\, United States
ATTACH;FMTTYPE=image/jpeg:https://innovateorlando.io/wp-content/uploads/2026/02/5a56f65e81d48826ffca8183858aa3a8-1.jpg
END:VEVENT
BEGIN:VEVENT
DTSTART;TZID=America/New_York:20260615T083000
DTEND;TZID=America/New_York:20260619T043000
DTSTAMP:20260421T184232
CREATED:20260228T082740Z
LAST-MODIFIED:20260421T181453Z
UID:10000212-1781512200-1781843400@innovateorlando.io
SUMMARY:GEMS: June 15-19\, 2026
DESCRIPTION:Please reserve a spot for GEMS camp the week of June 15-19 for either the morning or afternoon session.\n\n\nINSTRUCTIONS FOR REGISTERING THROUGH EVENTBRITE: \n\nDue to the government shutdown\, there has been delays to the registration process for GEMS. This page is meant to address these delays and allow parents to reserve a spot for their camper(s) as the government registration site is being set up. Please note that this Eventbrite application is not a complete registration- a link will be sent out later to the GEMS Ideal Logic (government) page to finalize registration.\nThis year we will be offering a Morning and Afternoon session Monday-Thursday. Friday we will have a combined field trip for all campers. PLEASE ONLY REGISTER FOR ONE SESSION.\nIf you are registering multiple students\, please complete individual registrations for each student.
URL:https://innovateorlando.io/event/gems-june-15-19-2026/
LOCATION:3100 Technology Pkwy\, 3100 Technology Parkway\, Orlando\, FL\, 32826\, United States
ATTACH;FMTTYPE=image/jpeg:https://innovateorlando.io/wp-content/uploads/2026/02/59ef3007433c0d2a3a7d41c7ccacdc2e-1.jpg
END:VEVENT
BEGIN:VEVENT
DTSTART;TZID=America/New_York:20260706T083000
DTEND;TZID=America/New_York:20260710T163000
DTSTAMP:20260421T184232
CREATED:20260228T082744Z
LAST-MODIFIED:20260421T181453Z
UID:10000210-1783326600-1783701000@innovateorlando.io
SUMMARY:GEMS Advanced: July 6-10\, 2026
DESCRIPTION:Please reserve a spot for GEMS Advanced camp the week of July 6-10\, 2026 for either the morning or afternoon session.\n\n\nINSTRUCTIONS FOR REGISTERING THROUGH EVENTBRITE: \n\nDue to the government shutdown\, there has been delays to the registration process for GEMS. This page is meant to address these delays and allow parents to reserve a spot for their camper(s) as the government registration site is being set up. Please note that this Eventbrite application is not a complete registration- a link will be sent out later to the GEMS Ideal Logic (government) page to finalize registration.\nThis year we will be offering a Morning and Afternoon session Monday-Thursday. Friday we will have a combined field trip for all campers. PLEASE ONLY REGISTER FOR ONE SESSION.\nIf you are registering multiple students\, please complete individual registrations for each student.
URL:https://innovateorlando.io/event/gems-advanced-july-6-10-2026/
LOCATION:3100 Technology Pkwy\, 3100 Technology Parkway\, Orlando\, FL\, 32826\, United States
ATTACH;FMTTYPE=image/jpeg:https://innovateorlando.io/wp-content/uploads/2026/02/f12efc8ff334e284d3a7445390e7038b-1.jpg
END:VEVENT
BEGIN:VEVENT
DTSTART;TZID=America/New_York:20260720T083000
DTEND;TZID=America/New_York:20260724T123000
DTSTAMP:20260421T184232
CREATED:20260228T082746Z
LAST-MODIFIED:20260421T181453Z
UID:10000211-1784536200-1784896200@innovateorlando.io
SUMMARY:Orange County GEMS Leadership: July 20-24\, 2026
DESCRIPTION:Please reserve a spot for GEMS Leadership camp the week of July 20-24.\n\n\nINSTRUCTIONS FOR REGISTERING THROUGH EVENTBRITE: \n\nDue to the government shutdown\, there has been delays to the registration process for GEMS. This page is meant to address these delays and allow parents to reserve a spot for their camper(s) as the government registration site is being set up. Please note that this Eventbrite application is not a complete registration- a link will be sent out later to the GEMS Ideal Logic (government) page to finalize registration.\nIf you are registering multiple students\, please complete individual registrations for each student.
URL:https://innovateorlando.io/event/gems-leadership-july-20-24-2026/
LOCATION:3100 Technology Pkwy\, 3100 Technology Parkway\, Orlando\, FL\, 32826\, United States
ATTACH;FMTTYPE=image/jpeg:https://innovateorlando.io/wp-content/uploads/2026/03/21e304d25af67376c0fb120808af20b6-1.jpg
END:VEVENT
END:VCALENDAR