BEGIN:VCALENDAR
VERSION:2.0
PRODID:-//Innovate Orlando - ECPv6.15.15//NONSGML v1.0//EN
CALSCALE:GREGORIAN
METHOD:PUBLISH
X-ORIGINAL-URL:https://innovateorlando.io
X-WR-CALDESC:Events for Innovate Orlando
REFRESH-INTERVAL;VALUE=DURATION:PT1H
X-Robots-Tag:noindex
X-PUBLISHED-TTL:PT1H
BEGIN:VTIMEZONE
TZID:America/New_York
BEGIN:DAYLIGHT
TZOFFSETFROM:-0500
TZOFFSETTO:-0400
TZNAME:EDT
DTSTART:20250309T070000
END:DAYLIGHT
BEGIN:STANDARD
TZOFFSETFROM:-0400
TZOFFSETTO:-0500
TZNAME:EST
DTSTART:20251102T060000
END:STANDARD
BEGIN:DAYLIGHT
TZOFFSETFROM:-0500
TZOFFSETTO:-0400
TZNAME:EDT
DTSTART:20260308T070000
END:DAYLIGHT
BEGIN:STANDARD
TZOFFSETFROM:-0400
TZOFFSETTO:-0500
TZNAME:EST
DTSTART:20261101T060000
END:STANDARD
BEGIN:DAYLIGHT
TZOFFSETFROM:-0500
TZOFFSETTO:-0400
TZNAME:EDT
DTSTART:20270314T070000
END:DAYLIGHT
BEGIN:STANDARD
TZOFFSETFROM:-0400
TZOFFSETTO:-0500
TZNAME:EST
DTSTART:20271107T060000
END:STANDARD
END:VTIMEZONE
BEGIN:VEVENT
DTSTART;TZID=America/New_York:20260615T083000
DTEND;TZID=America/New_York:20260619T043000
DTSTAMP:20260422T102652
CREATED:20260228T082740Z
LAST-MODIFIED:20260421T181453Z
UID:10000212-1781512200-1781843400@innovateorlando.io
SUMMARY:GEMS: June 15-19\, 2026
DESCRIPTION:Please reserve a spot for GEMS camp the week of June 15-19 for either the morning or afternoon session.\n\n\nINSTRUCTIONS FOR REGISTERING THROUGH EVENTBRITE: \n\nDue to the government shutdown\, there has been delays to the registration process for GEMS. This page is meant to address these delays and allow parents to reserve a spot for their camper(s) as the government registration site is being set up. Please note that this Eventbrite application is not a complete registration- a link will be sent out later to the GEMS Ideal Logic (government) page to finalize registration.\nThis year we will be offering a Morning and Afternoon session Monday-Thursday. Friday we will have a combined field trip for all campers. PLEASE ONLY REGISTER FOR ONE SESSION.\nIf you are registering multiple students\, please complete individual registrations for each student.
URL:https://innovateorlando.io/event/gems-june-15-19-2026/
LOCATION:3100 Technology Pkwy\, 3100 Technology Parkway\, Orlando\, FL\, 32826\, United States
ATTACH;FMTTYPE=image/jpeg:https://innovateorlando.io/wp-content/uploads/2026/02/59ef3007433c0d2a3a7d41c7ccacdc2e-1.jpg
END:VEVENT
BEGIN:VEVENT
DTSTART;TZID=America/New_York:20260615T173000
DTEND;TZID=America/New_York:20260615T200000
DTSTAMP:20260422T102653
CREATED:20251215T194551Z
LAST-MODIFIED:20260210T072113Z
UID:10000072-1781544600-1781553600@innovateorlando.io
SUMMARY:OrlandoPreneur Monthly Startup Happy Hour!
DESCRIPTION:OrlandoPreneur™ Startup Happy Hour: Connect\, Learn & Grow!\nIf you consider yourself a member of Orlando’s thriving startup/**entrepreneurial community** (or want to join it)\, this event is for YOU! Meet and network with fellow **entrepreneurs**\, **small business owners**\, **mentors**\, and **investors** at our monthly networking Happy Hour events! **You might even learn something.**\n* *“My first OrlandoPreneur event as a business owner felt overwhelming at first. But what a transformation! I left feeling energized and inspired\, with genuine connections that I know will be valuable. Huge thanks to Rupert Meghnot for an insightful presentation that really resonated with where I am in my journey.” – Yamina Marlow\, Creative Lead and Branding Specialist\, Yami Creative*\n* *“It was a great event. The energy in the room was incredible! I made some great connections & left feeling very inspired.” – Eddy Mazerredo\, Enterprise Applications Manager\, The Marcus Corporation*\nWe meet the **3rd Monday of every month**. Coming to a location near you\, soon. The first drink is on us!
URL:https://innovateorlando.io/event/orlandopreneur-monthly-startup-happy-hour-7/
LOCATION:FL
ATTACH;FMTTYPE=image/avif:https://innovateorlando.io/wp-content/uploads/2025/12/highres_532210752.avif
END:VEVENT
BEGIN:VEVENT
DTSTART;TZID=America/New_York:20260617T180000
DTEND;TZID=America/New_York:20260617T210000
DTSTAMP:20260422T102653
CREATED:20260414T175728Z
LAST-MODIFIED:20260421T190017Z
UID:10000279-1781719200-1781730000@innovateorlando.io
SUMMARY:Sunset Soirèe: A Juneteenth Social & Networking Event
DESCRIPTION:BOT’s 3rd Annual Sunset Soirèe at the Grape & Grain featuring Music with DJ Cierra\, Food Vendor Knowles Creations\, Games\, Dancing\, issa vibe\n\n\nSunset Soirée: A Juneteenth Social & Networking Experience \nJoin us for the 3rd annual Sunset Soirée\, a Juneteenth-inspired evening of connection\, culture\, and celebration designed for career professionals\, entrepreneurs\, and community builders. \nSet against the warm\, laid-back backdrop of Grape & Grain\, this midweek gathering blends meaningful networking with a vibrant social atmosphere. Whether you’re looking to expand your circle\, spark new opportunities\, or simply unwind with good people\, this is your space to do it. \nEnjoy sounds by DJ Cierra setting the tone for the evening\, along with delicious bites from Knowles Creations available for purchase. Throughout the night\, tap into conversation\, collaboration\, and a little friendly competition with classic games like dominoes\, cards\, and UNO. \nAnd because we know Florida summers don’t play\, the covered back patio is equipped with fans and cooling misters to keep you comfortable while you mix\, mingle\, and enjoy the evening. \nCome for the vibes\, stay for the connections. \nDate: Wednesday\, June 17Time: 6:00 PM – 9:00 PMLocation: Grape & Grain \nBring a friend\, meet someone new\, and celebrate Juneteenth in a way that feels both intentional and unforgettable. \nPhoto & Video Consent Notice \nBy entering this event space\, you acknowledge and agree that photography\, video recording\, and other media capture may be in progress. \nYour presence constitutes your consent to be photographed\, filmed\, and/or otherwise recorded. You also grant permission for your likeness\, image\, voice\, and/or appearance to be used by Building Our Tech (BOT) for promotional\, marketing\, and storytelling purposes. \nThis includes\, but is not limited to\, use across digital platforms\, social media\, websites\, email communications\, and printed materials such as flyers and brochures\, both now and in the future. \nIf you prefer not to be photographed or recorded\, please notify a member of our team upon arrival so we can do our best to accommodate your request. \nThank you for being part of this experience.
URL:https://innovateorlando.io/event/sunset-soiree-a-juneteenth-social-networking-event/
LOCATION:Grape and the Grain Wine Bar\, 1110 Virginia Drive\, Orlando\, FL\, 32803\, United States
ATTACH;FMTTYPE=image/jpeg:https://innovateorlando.io/wp-content/uploads/2026/04/e2633be92492cd1a41ac87f966ae152c.jpg
END:VEVENT
END:VCALENDAR