BEGIN:VCALENDAR
VERSION:2.0
PRODID:-//Innovate Orlando - ECPv6.15.15//NONSGML v1.0//EN
CALSCALE:GREGORIAN
METHOD:PUBLISH
X-ORIGINAL-URL:https://innovateorlando.io
X-WR-CALDESC:Events for Innovate Orlando
REFRESH-INTERVAL;VALUE=DURATION:PT1H
X-Robots-Tag:noindex
X-PUBLISHED-TTL:PT1H
BEGIN:VTIMEZONE
TZID:America/New_York
BEGIN:DAYLIGHT
TZOFFSETFROM:-0500
TZOFFSETTO:-0400
TZNAME:EDT
DTSTART:20250309T070000
END:DAYLIGHT
BEGIN:STANDARD
TZOFFSETFROM:-0400
TZOFFSETTO:-0500
TZNAME:EST
DTSTART:20251102T060000
END:STANDARD
BEGIN:DAYLIGHT
TZOFFSETFROM:-0500
TZOFFSETTO:-0400
TZNAME:EDT
DTSTART:20260308T070000
END:DAYLIGHT
BEGIN:STANDARD
TZOFFSETFROM:-0400
TZOFFSETTO:-0500
TZNAME:EST
DTSTART:20261101T060000
END:STANDARD
BEGIN:DAYLIGHT
TZOFFSETFROM:-0500
TZOFFSETTO:-0400
TZNAME:EDT
DTSTART:20270314T070000
END:DAYLIGHT
BEGIN:STANDARD
TZOFFSETFROM:-0400
TZOFFSETTO:-0500
TZNAME:EST
DTSTART:20271107T060000
END:STANDARD
END:VTIMEZONE
BEGIN:VTIMEZONE
TZID:UTC
BEGIN:STANDARD
TZOFFSETFROM:+0000
TZOFFSETTO:+0000
TZNAME:UTC
DTSTART:20250101T000000
END:STANDARD
END:VTIMEZONE
BEGIN:VEVENT
DTSTART;TZID=America/New_York:20260601T083000
DTEND;TZID=America/New_York:20260601T123000
DTSTAMP:20260422T071613
CREATED:20260303T084153Z
LAST-MODIFIED:20260421T181453Z
UID:10000214-1780302600-1780317000@innovateorlando.io
SUMMARY:GEMS WAITLIST
DESCRIPTION:Please complete this application to be added to our GEMS waitlist. If a spot opens up\, these applications will be considered first.\n\n\nINSTRUCTIONS FOR REGISTERING THROUGH EVENTBRITE: \n\nPLEASE NOTE: This is the application page to be on the GEMS waitlist. Due to overwhelming demand and limited capacity for GEMS our initial registrations for camp are closed. In the event a spot opens up\, these waitlist applications will be considered first.\nDue to the government shutdown\, there has been delays to the registration process for GEMS. This page is meant to address these delays and allow parents to reserve a spot for their camper(s) as the government registration site is being set up. Please note that this Eventbrite application is not a complete registration- a link will be sent out later to the GEMS Ideal Logic (government) page to finalize registration IF a spot opens up.\nIf you are registering multiple students\, please complete individual registrations for each student.
URL:https://innovateorlando.io/event/gems-waitlist/
LOCATION:3100 Technology Pkwy\, 3100 Technology Parkway\, Orlando\, FL\, 32826\, United States
ATTACH;FMTTYPE=image/jpeg:https://innovateorlando.io/wp-content/uploads/2026/02/5a56f65e81d48826ffca8183858aa3a8-1.jpg
END:VEVENT
BEGIN:VEVENT
DTSTART;TZID=America/New_York:20260602T120000
DTEND;TZID=America/New_York:20260602T130000
DTSTAMP:20260422T071613
CREATED:20260113T022701Z
LAST-MODIFIED:20260422T081517Z
UID:10000100-1780401600-1780405200@innovateorlando.io
SUMMARY:Women in Tech & Entrepreneurship - New Member Orientation
DESCRIPTION:Join us online every first Tuesday for a WTE New Member Orientation — learn about our community\, resources\, and how to thrive here!
URL:https://innovateorlando.io/event/women-in-tech-entrepreneurship-new-member-orientation-9/
LOCATION:FL
ATTACH;FMTTYPE=image/jpeg:https://innovateorlando.io/wp-content/uploads/2025/11/c607faab8efc872a8f617bf64b39187f-1.jpg
END:VEVENT
BEGIN:VEVENT
DTSTART;TZID=UTC:20260603T180000
DTEND;TZID=UTC:20260603T200000
DTSTAMP:20260422T071613
CREATED:20251211T042303Z
LAST-MODIFIED:20260210T080121Z
UID:10000058-1780509600-1780516800@innovateorlando.io
SUMMARY:IxDF Orlando June Meetup
DESCRIPTION:Reserve the Date and Time for our monthly Meetup! Stay tuned for the details on our great discussion topics and/or presentations! \nhttps://www.interaction-design.org/meetups/ixdf-orlando-june-meetup-jun-3rd-2026
URL:https://innovateorlando.io/event/ixdf-orlando-june-meetup/
LOCATION:Tech Hub Orlando\, 36 West Pine Street\, Orlando\, FL\, 32801\, United States
GEO:28.54121;-81.380876
X-APPLE-STRUCTURED-LOCATION;VALUE=URI;X-ADDRESS=Tech Hub Orlando 36 West Pine Street Orlando FL 32801 United States;X-APPLE-RADIUS=500;X-TITLE=36 West Pine Street:geo:-81.380876,28.54121
END:VEVENT
END:VCALENDAR