BEGIN:VCALENDAR
VERSION:2.0
PRODID:-//Innovate Orlando - ECPv6.15.15//NONSGML v1.0//EN
CALSCALE:GREGORIAN
METHOD:PUBLISH
X-ORIGINAL-URL:https://innovateorlando.io
X-WR-CALDESC:Events for Innovate Orlando
REFRESH-INTERVAL;VALUE=DURATION:PT1H
X-Robots-Tag:noindex
X-PUBLISHED-TTL:PT1H
BEGIN:VTIMEZONE
TZID:America/New_York
BEGIN:DAYLIGHT
TZOFFSETFROM:-0500
TZOFFSETTO:-0400
TZNAME:EDT
DTSTART:20250309T070000
END:DAYLIGHT
BEGIN:STANDARD
TZOFFSETFROM:-0400
TZOFFSETTO:-0500
TZNAME:EST
DTSTART:20251102T060000
END:STANDARD
BEGIN:DAYLIGHT
TZOFFSETFROM:-0500
TZOFFSETTO:-0400
TZNAME:EDT
DTSTART:20260308T070000
END:DAYLIGHT
BEGIN:STANDARD
TZOFFSETFROM:-0400
TZOFFSETTO:-0500
TZNAME:EST
DTSTART:20261101T060000
END:STANDARD
BEGIN:DAYLIGHT
TZOFFSETFROM:-0500
TZOFFSETTO:-0400
TZNAME:EDT
DTSTART:20270314T070000
END:DAYLIGHT
BEGIN:STANDARD
TZOFFSETFROM:-0400
TZOFFSETTO:-0500
TZNAME:EST
DTSTART:20271107T060000
END:STANDARD
END:VTIMEZONE
BEGIN:VTIMEZONE
TZID:UTC
BEGIN:STANDARD
TZOFFSETFROM:+0000
TZOFFSETTO:+0000
TZNAME:UTC
DTSTART:20250101T000000
END:STANDARD
END:VTIMEZONE
BEGIN:VEVENT
DTSTART;TZID=America/New_York:20260505T120000
DTEND;TZID=America/New_York:20260505T130000
DTSTAMP:20260421T131123
CREATED:20260113T022701Z
LAST-MODIFIED:20260421T080224Z
UID:10000099-1777982400-1777986000@innovateorlando.io
SUMMARY:Women in Tech & Entrepreneurship - New Member Orientation
DESCRIPTION:Join us online every first Tuesday for a WTE New Member Orientation — learn about our community\, resources\, and how to thrive here!
URL:https://innovateorlando.io/event/women-in-tech-entrepreneurship-new-member-orientation-8/
LOCATION:FL
ATTACH;FMTTYPE=image/jpeg:https://innovateorlando.io/wp-content/uploads/2025/11/c607faab8efc872a8f617bf64b39187f-1.jpg
END:VEVENT
BEGIN:VEVENT
DTSTART;TZID=UTC:20260506T180000
DTEND;TZID=UTC:20260506T200000
DTSTAMP:20260421T131123
CREATED:20251211T042215Z
LAST-MODIFIED:20260210T080030Z
UID:10000057-1778090400-1778097600@innovateorlando.io
SUMMARY:IxDF Orlando May Meetup
DESCRIPTION:Reserve the Date and Time for our monthly Meetup! Stay tuned for the details on our great discussion topics and/or presentations! \nhttps://www.interaction-design.org/meetups/ixdf-orlando-may-meetup-may-6th-2026
URL:https://innovateorlando.io/event/ixdf-orlando-may-meetup/
LOCATION:Tech Hub Orlando\, 36 West Pine Street\, Orlando\, FL\, 32801\, United States
GEO:28.54121;-81.380876
X-APPLE-STRUCTURED-LOCATION;VALUE=URI;X-ADDRESS=Tech Hub Orlando 36 West Pine Street Orlando FL 32801 United States;X-APPLE-RADIUS=500;X-TITLE=36 West Pine Street:geo:-81.380876,28.54121
END:VEVENT
BEGIN:VEVENT
DTSTART;TZID=America/New_York:20260507T180000
DTEND;TZID=America/New_York:20260507T193000
DTSTAMP:20260421T131123
CREATED:20260414T145703Z
LAST-MODIFIED:20260421T154504Z
UID:10000278-1778176800-1778182200@innovateorlando.io
SUMMARY:Founder-led Sales:  Win Customers\, Drive Revenue (without a sales team)
DESCRIPTION:Struggling to close sales? This workshop gives you sharp messaging\, a winning mindset\, and a simple weekly system to spark real traction!\n\n\nDescription: \nA founder-led sales engine is the fastest way to validate your product\, win early customers\, and prove real traction. \nThis workshop gives founders a practical\, no-fluff system for identifying the right customers\, crafting messages that resonate\, and starting conversations that convert. \nYou’ll learn how to shift from “pitching features” to solving real problems\, run confident sales conversations\, and create a repeatable weekly cadence that drives revenue. \nPerfect for all early-stage founders who know they need to sell—but want a clear\, simple path to doing it well. \nWhat You’ll Learn\n\nWhy founders must be the first and best salesperson\nHow to define your ideal customer and their real pain\nA simple messaging formula that stops feature‑dumping\nHow to run natural sales conversations that lead to next steps\nA weekly outreach cadence you can start immediately\n\nYou’ll Walk Away With\n\nA clear ICP + pain statement\nMessaging that resonates\nOutreach templates\nA repeatable sales rhythm that builds revenueThis event is jointly sponsored by StarterStudio and BOT.\n\nThis event is jointly sponsored by StarterStudio and BOT. \n📣 Please arrive a few minutes early to allow for parking and walking to the Tech Hub from the parking lot—the workshop will start promptly at 6:00 PM. \n📣 NOTE: Do NOT park in any of the lots next to the building or across the street\, you will be towed.
URL:https://innovateorlando.io/event/founder-led-sales-win-customers-drive-revenue-without-a-sales-team/
LOCATION:Tech Hub Orlando\, 36 West Pine Street\, Orlando\, FL\, 32801\, United States
ATTACH;FMTTYPE=image/jpeg:https://innovateorlando.io/wp-content/uploads/2026/04/787f39b35f03c00493e93c884562c82d.jpg
GEO:28.54121;-81.380876
X-APPLE-STRUCTURED-LOCATION;VALUE=URI;X-ADDRESS=Tech Hub Orlando 36 West Pine Street Orlando FL 32801 United States;X-APPLE-RADIUS=500;X-TITLE=36 West Pine Street:geo:-81.380876,28.54121
END:VEVENT
END:VCALENDAR