BEGIN:VCALENDAR
VERSION:2.0
PRODID:-//Innovate Orlando - ECPv6.15.15//NONSGML v1.0//EN
CALSCALE:GREGORIAN
METHOD:PUBLISH
X-ORIGINAL-URL:https://innovateorlando.io
X-WR-CALDESC:Events for Innovate Orlando
REFRESH-INTERVAL;VALUE=DURATION:PT1H
X-Robots-Tag:noindex
X-PUBLISHED-TTL:PT1H
BEGIN:VTIMEZONE
TZID:America/New_York
BEGIN:DAYLIGHT
TZOFFSETFROM:-0500
TZOFFSETTO:-0400
TZNAME:EDT
DTSTART:20250309T070000
END:DAYLIGHT
BEGIN:STANDARD
TZOFFSETFROM:-0400
TZOFFSETTO:-0500
TZNAME:EST
DTSTART:20251102T060000
END:STANDARD
BEGIN:DAYLIGHT
TZOFFSETFROM:-0500
TZOFFSETTO:-0400
TZNAME:EDT
DTSTART:20260308T070000
END:DAYLIGHT
BEGIN:STANDARD
TZOFFSETFROM:-0400
TZOFFSETTO:-0500
TZNAME:EST
DTSTART:20261101T060000
END:STANDARD
BEGIN:DAYLIGHT
TZOFFSETFROM:-0500
TZOFFSETTO:-0400
TZNAME:EDT
DTSTART:20270314T070000
END:DAYLIGHT
BEGIN:STANDARD
TZOFFSETFROM:-0400
TZOFFSETTO:-0500
TZNAME:EST
DTSTART:20271107T060000
END:STANDARD
END:VTIMEZONE
BEGIN:VTIMEZONE
TZID:UTC
BEGIN:STANDARD
TZOFFSETFROM:+0000
TZOFFSETTO:+0000
TZNAME:UTC
DTSTART:20250101T000000
END:STANDARD
END:VTIMEZONE
BEGIN:VEVENT
DTSTART;TZID=America/New_York:20260303T120000
DTEND;TZID=America/New_York:20260303T130000
DTSTAMP:20260421T172148
CREATED:20260113T022700Z
LAST-MODIFIED:20260303T042913Z
UID:10000097-1772539200-1772542800@innovateorlando.io
SUMMARY:Women in Tech & Entrepreneurship - New Member Orientation
DESCRIPTION:Join us online every first Tuesday for a WTE New Member Orientation — learn about our community\, resources\, and how to thrive here!
URL:https://innovateorlando.io/event/women-in-tech-entrepreneurship-new-member-orientation-6/
LOCATION:FL
ATTACH;FMTTYPE=image/jpeg:https://innovateorlando.io/wp-content/uploads/2025/11/c607faab8efc872a8f617bf64b39187f-1.jpg
END:VEVENT
BEGIN:VEVENT
DTSTART;TZID=America/New_York:20260304T083000
DTEND;TZID=America/New_York:20260304T100000
DTSTAMP:20260421T172148
CREATED:20260115T033852Z
LAST-MODIFIED:20260210T070950Z
UID:10000115-1772613000-1772618400@innovateorlando.io
SUMMARY:1 Million Cups - Orlando Weekly Meetup
DESCRIPTION:1 Million Cups – Orlando\nIf you love and support entrepreneurship and small business\, there’s no better place to be on Wednesday mornings! We meet every week to support and learn from each other and entrepreneurs around the country.\nCreated by the Kauffman Foundation (one of the largest philanthropic\, entrepreneurial & venture capital organizations in the world)\, we host a weekly educational meetup where entrepreneurs educate us about their business ideas for 6 minutes\, and we share our wisdom and feedback for 20.\nEach week\, an entrepreneur tells us about their business\, and we ask questions and provide feedback that not only teaches us more but also helps the presenters hone their own presentations.\nThis week\, we will hear from Frank Ortega of Pupstar\, the first pet perfume with a shiny finish. We will also hear from Randall Mauldin of SCALEHound.AI\, a system that designs and deploys AI-powered workflows using the proprietary SCALE Methodology.\nWe host our weekly events at **TechHub Orlando\, 36 W. Pine\, Orlando\, FL 32801.**\nParking is available at the 55W garage and the Garland surface lot (between Pine and Central) for $2.00/hour.\nYou can find more information at (https://bit.ly/1MCOrlando). You can also register to attend our meeting via Zoom at (https://bit.ly/12312025).\nFinally\, we’re giving away swag to people who come to 4\, 8\, and 12 consecutive meetings.\n* 4 = 1MC travel mug.\n* 8 = 1MC t-shirt.\n* 12 = 1MC collectible ceramic mug.
URL:https://innovateorlando.io/event/1-million-cups-orlando-weekly-meetup-12/
LOCATION:FL
ATTACH;FMTTYPE=image/avif:https://innovateorlando.io/wp-content/uploads/2026/01/highres_523082957.avif
END:VEVENT
BEGIN:VEVENT
DTSTART;TZID=America/New_York:20260304T120000
DTEND;TZID=America/New_York:20260304T130000
DTSTAMP:20260421T172148
CREATED:20260213T061437Z
LAST-MODIFIED:20260304T072730Z
UID:10000191-1772625600-1772629200@innovateorlando.io
SUMMARY:Decision-Making for Founders
DESCRIPTION:An in-person session built to help you cut through noise\, align your team\, and move from idea to execution with confidence.\n\n\nLooking to unlock faster\, clearer decisions in your startup business? \nJoin the StarterStudio and BOT teams for an in-person workshop hosted by Keri Laine Executive Solutions\, for a session built to help you cut through noise\, align your team\, and move from idea to execution with confidence. \nThis live workshop combines a proven leadership framework with real founder problems so you walk out with decisions made\, not just notes taken. \nWho This Is For? \n– Startup and growth-stage founders navigating high-stakes choices about product\, people\, or capital. \n– Entrepreneurs leading small teams who feel stuck in analysis paralysis or misalignment. \n– Founders ready to scale and needing a more reliable way to evaluate options and risks. \nWhat You’ll Walk Away With: \n– A practical\, immediately implementable framework for decision-making. \n– Tools to reduce second-guessing\, improve team buy-in\, and move faster without sacrificing rigor. \n– Clarity on one current business decision\, worked through in-session with guided exercises. \n– A simple action plan for your next 30–90 days so decisions turn into measurable progress. \nWorkshop Experience: \nThis is not a lecture; it’s a working lab for your real-world decisions. Expect short\, focused teaching blocks\, structured exercises\, and peer discussion with other Orlando founders facing similar challenges. \n \nReserve your seat now to give your next wave of decisions the structure\, confidence\, and momentum they deserve. \nThis event is jointly sponsored by StarterStudio\, KLES and BOT \n📣 Please arrive a few minutes early to allow for parking and walking to the Tech Hub from the parking lot—the workshop will start promptly at 12:00 PM. \n📣 NOTE: Do NOT park in any of the lots next to the building or across the street\, you will be towed. \n🥪 Lunch-and-learn style—feel free to bring a brown-bag lunch!
URL:https://innovateorlando.io/event/decision-making-for-founders/
LOCATION:Tech Hub Orlando\, 36 West Pine Street\, Orlando\, FL\, 32801\, United States
ATTACH;FMTTYPE=image/jpeg:https://innovateorlando.io/wp-content/uploads/2026/02/ba6ccceadac4dd2da66e1a94445967a1-1.jpg
GEO:28.54121;-81.380876
X-APPLE-STRUCTURED-LOCATION;VALUE=URI;X-ADDRESS=Tech Hub Orlando 36 West Pine Street Orlando FL 32801 United States;X-APPLE-RADIUS=500;X-TITLE=36 West Pine Street:geo:-81.380876,28.54121
END:VEVENT
BEGIN:VEVENT
DTSTART;TZID=UTC:20260304T180000
DTEND;TZID=UTC:20260304T200000
DTSTAMP:20260421T172148
CREATED:20251211T042035Z
LAST-MODIFIED:20260210T075902Z
UID:10000054-1772647200-1772654400@innovateorlando.io
SUMMARY:IxDF Orlando March Meetup
DESCRIPTION:Reserve the Date and Time for our monthly Meetup! Stay tuned for the details on our great discussion topics and/or presentations! \nhttps://www.interaction-design.org/meetups/ixdf-orlando-march-meetup-mar-4th-2026
URL:https://innovateorlando.io/event/ixdf-orlando-march-meetup/
LOCATION:Tech Hub Orlando\, 36 West Pine Street\, Orlando\, FL\, 32801\, United States
GEO:28.54121;-81.380876
X-APPLE-STRUCTURED-LOCATION;VALUE=URI;X-ADDRESS=Tech Hub Orlando 36 West Pine Street Orlando FL 32801 United States;X-APPLE-RADIUS=500;X-TITLE=36 West Pine Street:geo:-81.380876,28.54121
END:VEVENT
BEGIN:VEVENT
DTSTART;TZID=America/New_York:20260304T180000
DTEND;TZID=America/New_York:20260304T200000
DTSTAMP:20260421T172148
CREATED:20260213T124326Z
LAST-MODIFIED:20260304T142713Z
UID:10000192-1772647200-1772654400@innovateorlando.io
SUMMARY:Tech Sales 101: Is This The Career Path For You?
DESCRIPTION:Curious about a career in tech sales? Join us for a fun and insightful event to discover if this path is right for you!\n\n\nTech Sales 101: Is This the Career Path for You? \nCurious about breaking into tech but not sure where you fit? Tech Sales 101 is your inside look at one of the most lucrative and accessible pathways into the tech industry. \nHosted by Building Our Tech (BOT) and led by Mike Felix — Cofounder\, Board Chair\, and tech sales professional — this session will break down what tech sales really is (beyond the stereotypes)\, who it’s for\, what the earning potential looks like\, and what it realistically takes to land your first role. \nThis is not fluff. This is clarity. \nIn this session\, you’ll learn:• What day-to-day life in tech sales actually looks like• The different roles within tech sales and how to find your fit• Realistic earning potential and career growth opportunities• The skills and mindset required to break in• The roadmap to getting hired \nBy the end of this session\, you’ll walk away knowing three things:✔ This career path is real and attainable✔ I can see myself in one of these roles✔ I need structured guidance to do this the right way \nIf you’ve been looking for a practical\, high-growth entry point into tech — this is where you start. \n📍 March 4 at 6PM📍 Credo Conduit \nSeats are limited. Come get the clarity you’ve been looking for.
URL:https://innovateorlando.io/event/tech-sales-101-is-this-the-career-path-for-you/
LOCATION:CREDO Conduit\, 1001 North Orange Avenue\, Orlando\, FL\, 32801\, United States
ATTACH;FMTTYPE=image/jpeg:https://innovateorlando.io/wp-content/uploads/2026/02/034f9bf2732eefdfc1fa7b4b3332c64a-1.jpg
END:VEVENT
BEGIN:VEVENT
DTSTART;TZID=America/New_York:20260305T160000
DTEND;TZID=America/New_York:20260305T180000
DTSTAMP:20260421T172148
CREATED:20260210T065822Z
LAST-MODIFIED:20260210T080422Z
UID:10000181-1772726400-1772733600@innovateorlando.io
SUMMARY:Plug In Orlando!
DESCRIPTION:https://luma.com/4r7yaanw \n​Join us on this monthly series powered by Plug and Play Orlando that brings together innovators\, founders\, academics\, and investors shaping the future of Florida’s innovation ecosystem. \n​Each month welcomes a lineup of innovators and industry leaders driving Orlando’s Smart City transformation. \n​You’ll also experience three rapid-fire startup pitches from founders applying cutting-edge technologies to urban innovation. Interested in pitching? Complete the Application Form on the bottom of our website landing page. Applications will be reviewed monthly and selected startups will be notified via email.
URL:https://innovateorlando.io/event/plug-in-orlando/
LOCATION:FL
ATTACH;FMTTYPE=image/avif:https://innovateorlando.io/wp-content/uploads/2026/02/58adb830-948c-4ec8-b22f-b0d1df374f09.avif
END:VEVENT
BEGIN:VEVENT
DTSTART;TZID=America/New_York:20260305T190000
DTEND;TZID=America/New_York:20260305T210000
DTSTAMP:20260421T172148
CREATED:20260210T070021Z
LAST-MODIFIED:20260210T070123Z
UID:10000182-1772737200-1772744400@innovateorlando.io
SUMMARY:Accelerate Orlando + Build the Future: A Night of OpenClaw Exploration
DESCRIPTION:Accelerate Orlando + Build the Future: A Night of OpenClaw Exploration\nhttps://luma.com/p2isxegr \nPlease join Accelerate Orlando and Build the Future for some hands on experience and architectural exploration of OpenClaw – a new open source personal ai assistant. \n​https://openclaw.ai/ \n 
URL:https://innovateorlando.io/event/accelerate-orlando-build-the-future-a-night-of-openclaw-exploration/
LOCATION:FL
ATTACH;FMTTYPE=image/avif:https://innovateorlando.io/wp-content/uploads/2026/02/5278c1b6-2f8b-42a6-b5e6-f3f8bbf1b393.avif
END:VEVENT
BEGIN:VEVENT
DTSTART;TZID=America/New_York:20260306T193000
DTEND;TZID=America/New_York:20260306T223000
DTSTAMP:20260421T172148
CREATED:20260115T104537Z
LAST-MODIFIED:20260306T141155Z
UID:10000122-1772825400-1772836200@innovateorlando.io
SUMMARY:Latinos in Tech @ Orlando Meetup (Brewlando)
DESCRIPTION:Are you tired of Zoom meetings? Are you new to Orlando and want to make new friends? Then this meetup might be just for you\n\n\nJoin fellow Technology and Engineering professionals for an evening of connection\, conversation\, and community. This includes Developers\, UX Designers\, Product Managers\, Digital Marketers\, and Engineers. \n \nWe will be meeting at Brewlando Brewing\, \n6820 Hoffner Ave\, Orlando\, FL 32822. \n \n💬 Who are we? \nWe are a welcoming community for people in Technology and Engineering. Whether you are early in your career\, breaking into the industry\, or already well established\, you will find your people here. Developers\, UX Designers\, Product Managers\, Digital Marketers\, and Engineers are all part of the mix. \n \n🚫 This is not a sales event. \nThis space is for authentic connection\, not promotion or selling. That means no sales pitches and no recruiting for financial products or schemes. Salespeople\, financial advisors\, insurance agents\, realtors\, and crypto promoters should look for a different event that better fits their goals. \n \n🚀 What to expect: \nLook for a table with the “Latinos in Tech Meetup” sign or for attendees wearing name tags. \n \nAt 7:45 PM\, we will kick things off with light icebreakers and group activities designed to help everyone get to know each other in a relaxed\, low pressure environment. Whether you are new to the area or just want to spend time with fellow tech professionals in real life\, you will leave with meaningful connections. \nThis is not just another networking event. It is a chance to build friendships and share experiences with people who understand life in tech. \nA few reminders: \n\nNo sales or promotions\nBe excellent to each other\nRespect everyone’s space\nBring your best vibes
URL:https://innovateorlando.io/event/latinos-in-tech-orlando-meetup-brewlando/
LOCATION:Brewlando Brewing\, Hoffner Avenue\, Orlando\, FL\, USA\, 6820 Hoffner Avenue\, Orlando\, FL\, 32822\, United States
ATTACH;FMTTYPE=image/jpeg:https://innovateorlando.io/wp-content/uploads/2025/11/ebc4de1ac86d6962fb1c6ec67490e973.jpg
END:VEVENT
BEGIN:VEVENT
DTSTART;TZID=America/New_York:20260308T090000
DTEND;TZID=America/New_York:20260308T150000
DTSTAMP:20260421T172148
CREATED:20260301T135717Z
LAST-MODIFIED:20260308T144159Z
UID:10000213-1772960400-1772982000@innovateorlando.io
SUMMARY:Women Who Build: Powered by Lovable
DESCRIPTION:Join a fun gathering of women making moves and building cool stuff powered by Lovable energy!\n\n\nAn International Women’s Day Hackathon for Founders & Future Builders \nThis International Women’s Day\, we’re not just talking about innovation\, we’re building it. \nWomen Who Build: Powered by Lovable is a hands-on\, collaborative hackathon designed for women founders\, entrepreneurs\, and aspiring builders who want to turn ideas into real\, working apps without needing a traditional technical background. \nWhether you’re: \n\nA founder looking to prototype your next feature\nAn entrepreneur validating a new idea\nA creative ready to build your first app\nOr simply curious about how AI-powered tools like Lovable can accelerate your business\n\nThis space is for you. \n💻 What You’ll Do \n\nLearn how to use Lovable to build functional applications\nWork alongside other ambitious women in a supportive environment\nGet guidance\, feedback\, and real-time collaboration\nLeave with a live prototype (or serious momentum toward one)\n\nNo gatekeeping.No intimidation.Just focused building. \n🤝 Why This Matters \nAccess to tools changes everything.When women\, especially founders have the skills to build their own tech\, we shorten the gap between idea and execution. \nThis isn’t a panel.This isn’t just inspiration.This is implementation. \n🎯 Who Should Attend \n\nStartup founders\nSmall business owners\nCreatives and consultants\nNon-technical entrepreneurs\nWomen curious about AI and app development\nAnyone ready to move from idea → action\n\nAll experience levels are welcome. \n✨ What to Bring \n\nYour laptop\nAn idea (big or small)\nA willingness to experiment and collaborate\n\nWe’ll handle the rest. \nJoin us as we celebrate International Women’s Day the BOT way\, by building.
URL:https://innovateorlando.io/event/women-who-build-powered-by-lovable/
LOCATION:CREDO Conduit\, 1001 North Orange Avenue\, Orlando\, FL\, 32801\, United States
ATTACH;FMTTYPE=image/jpeg:https://innovateorlando.io/wp-content/uploads/2026/03/9f7cf762a0c992d5e44d19e38c29c67d-1.jpg
END:VEVENT
END:VCALENDAR