BEGIN:VCALENDAR
VERSION:2.0
PRODID:-//Innovate Orlando - ECPv6.15.15//NONSGML v1.0//EN
CALSCALE:GREGORIAN
METHOD:PUBLISH
X-ORIGINAL-URL:https://innovateorlando.io
X-WR-CALDESC:Events for Innovate Orlando
REFRESH-INTERVAL;VALUE=DURATION:PT1H
X-Robots-Tag:noindex
X-PUBLISHED-TTL:PT1H
BEGIN:VTIMEZONE
TZID:America/New_York
BEGIN:DAYLIGHT
TZOFFSETFROM:-0500
TZOFFSETTO:-0400
TZNAME:EDT
DTSTART:20250309T070000
END:DAYLIGHT
BEGIN:STANDARD
TZOFFSETFROM:-0400
TZOFFSETTO:-0500
TZNAME:EST
DTSTART:20251102T060000
END:STANDARD
BEGIN:DAYLIGHT
TZOFFSETFROM:-0500
TZOFFSETTO:-0400
TZNAME:EDT
DTSTART:20260308T070000
END:DAYLIGHT
BEGIN:STANDARD
TZOFFSETFROM:-0400
TZOFFSETTO:-0500
TZNAME:EST
DTSTART:20261101T060000
END:STANDARD
BEGIN:DAYLIGHT
TZOFFSETFROM:-0500
TZOFFSETTO:-0400
TZNAME:EDT
DTSTART:20270314T070000
END:DAYLIGHT
BEGIN:STANDARD
TZOFFSETFROM:-0400
TZOFFSETTO:-0500
TZNAME:EST
DTSTART:20271107T060000
END:STANDARD
END:VTIMEZONE
BEGIN:VEVENT
DTSTART;TZID=America/New_York:20260624T190000
DTEND;TZID=America/New_York:20260624T210000
DTSTAMP:20260421T113858
CREATED:20260210T065014Z
LAST-MODIFIED:20260210T075259Z
UID:10000180-1782327600-1782334800@innovateorlando.io
SUMMARY:CitrusSec Meetup
DESCRIPTION:Central Florida CitySec\nCitrusSec is a Central Florida CitySec group located in the Orlando area. CitrusSec’s goal is to discuss topics of interest in a non-work\, non-vendor setting; preferably while drinking.
URL:https://innovateorlando.io/event/citrussec-meetup-7/
LOCATION:FL
ATTACH;FMTTYPE=image/avif:https://innovateorlando.io/wp-content/uploads/2026/02/highres_450220541-scaled.avif
END:VEVENT
BEGIN:VEVENT
DTSTART;TZID=America/New_York:20260625T130000
DTEND;TZID=America/New_York:20260625T180000
DTSTAMP:20260421T113858
CREATED:20260207T054229Z
LAST-MODIFIED:20260420T223303Z
UID:10000133-1782392400-1782410400@innovateorlando.io
SUMMARY:Plug and Play NeoCity Expo Batch 3
DESCRIPTION:See what the future of innovation looks like – our 3rd cohort is discussing bold ideas live at Plug and Play Semiconductors Expo\n\n\nWelcome to the Plug and Play NeoCity Expo \nThe Batch 3 Expo is the culmination of Plug and Play’s 12-week Semiconductor accelerator – opening the doors to the broader community to experience the innovation\, partnerships\, and progress built throughout the program. \nDesigned as an ecosystem-driven gathering\, the Expo prioritizes insight over pitches. Through educational panels\, founder conversations\, and partner perspectives\, attendees will gain a deeper understanding of where semiconductor innovation is heading and how emerging technologies move from lab to real-world deployment. \nProgramming will explore themes across the semiconductor value chain\, including: \n\nDefense\, aerospace\, and industrial microelectronics\nSemiconductor manufacturing\, materials\, architectures\, and tooling\nEdge computing and IoT hardware & software\n\nStartups from the Batch 3 cohort will participate alongside corporate leaders\, investors\, researchers\, and public-sector partners to share lessons learned\, commercialization pathways\, and the realities of building in deep tech today. \nThe Expo is a space for learning\, connection\, and discovery—bringing together entrepreneurs\, students\, operators\, policymakers\, and industry stakeholders to engage with the technologies and conversations shaping the future of semiconductors. \nSave the date and register today! \nAgenda coming soon
URL:https://innovateorlando.io/event/plug-and-play-neocity-expo-batch-3/
LOCATION:Plug and Play NeoCity\, 194 NeoCity Way\, 3rd Floor\, Kissimmee\, FL\, 34744\, United States
ATTACH;FMTTYPE=image/jpeg:https://innovateorlando.io/wp-content/uploads/2026/02/ac01750e89a81f1e5c7e2108314173e4-1.jpg
END:VEVENT
BEGIN:VEVENT
DTSTART;TZID=America/New_York:20260706T083000
DTEND;TZID=America/New_York:20260710T163000
DTSTAMP:20260421T113858
CREATED:20260228T082744Z
LAST-MODIFIED:20260420T175953Z
UID:10000210-1783326600-1783701000@innovateorlando.io
SUMMARY:GEMS Advanced: July 6-10\, 2026
DESCRIPTION:Please reserve a spot for GEMS Advanced camp the week of July 6-10\, 2026 for either the morning or afternoon session.\n\n\nINSTRUCTIONS FOR REGISTERING THROUGH EVENTBRITE: \n\nDue to the government shutdown\, there has been delays to the registration process for GEMS. This page is meant to address these delays and allow parents to reserve a spot for their camper(s) as the government registration site is being set up. Please note that this Eventbrite application is not a complete registration- a link will be sent out later to the GEMS Ideal Logic (government) page to finalize registration.\nThis year we will be offering a Morning and Afternoon session Monday-Thursday. Friday we will have a combined field trip for all campers. PLEASE ONLY REGISTER FOR ONE SESSION.\nIf you are registering multiple students\, please complete individual registrations for each student.
URL:https://innovateorlando.io/event/gems-advanced-july-6-10-2026/
LOCATION:3100 Technology Pkwy\, 3100 Technology Parkway\, Orlando\, FL\, 32826\, United States
ATTACH;FMTTYPE=image/jpeg:https://innovateorlando.io/wp-content/uploads/2026/02/f12efc8ff334e284d3a7445390e7038b-1.jpg
END:VEVENT
BEGIN:VEVENT
DTSTART;TZID=America/New_York:20260707T120000
DTEND;TZID=America/New_York:20260707T130000
DTSTAMP:20260421T113858
CREATED:20260113T022701Z
LAST-MODIFIED:20260421T080224Z
UID:10000101-1783425600-1783429200@innovateorlando.io
SUMMARY:Women in Tech & Entrepreneurship - New Member Orientation
DESCRIPTION:Join us online every first Tuesday for a WTE New Member Orientation — learn about our community\, resources\, and how to thrive here!
URL:https://innovateorlando.io/event/women-in-tech-entrepreneurship-new-member-orientation-10/
LOCATION:FL
ATTACH;FMTTYPE=image/jpeg:https://innovateorlando.io/wp-content/uploads/2025/11/c607faab8efc872a8f617bf64b39187f-1.jpg
END:VEVENT
BEGIN:VEVENT
DTSTART;TZID=America/New_York:20260720T083000
DTEND;TZID=America/New_York:20260724T123000
DTSTAMP:20260421T113858
CREATED:20260228T082746Z
LAST-MODIFIED:20260420T175953Z
UID:10000211-1784536200-1784896200@innovateorlando.io
SUMMARY:Orange County GEMS Leadership: July 20-24\, 2026
DESCRIPTION:Please reserve a spot for GEMS Leadership camp the week of July 20-24.\n\n\nINSTRUCTIONS FOR REGISTERING THROUGH EVENTBRITE: \n\nDue to the government shutdown\, there has been delays to the registration process for GEMS. This page is meant to address these delays and allow parents to reserve a spot for their camper(s) as the government registration site is being set up. Please note that this Eventbrite application is not a complete registration- a link will be sent out later to the GEMS Ideal Logic (government) page to finalize registration.\nIf you are registering multiple students\, please complete individual registrations for each student.
URL:https://innovateorlando.io/event/gems-leadership-july-20-24-2026/
LOCATION:3100 Technology Pkwy\, 3100 Technology Parkway\, Orlando\, FL\, 32826\, United States
ATTACH;FMTTYPE=image/jpeg:https://innovateorlando.io/wp-content/uploads/2026/03/21e304d25af67376c0fb120808af20b6-1.jpg
END:VEVENT
BEGIN:VEVENT
DTSTART;TZID=America/New_York:20260804T120000
DTEND;TZID=America/New_York:20260804T130000
DTSTAMP:20260421T113858
CREATED:20260113T022701Z
LAST-MODIFIED:20260421T080224Z
UID:10000102-1785844800-1785848400@innovateorlando.io
SUMMARY:Women in Tech & Entrepreneurship - New Member Orientation
DESCRIPTION:Join us online every first Tuesday for a WTE New Member Orientation — learn about our community\, resources\, and how to thrive here!
URL:https://innovateorlando.io/event/women-in-tech-entrepreneurship-new-member-orientation-11/
LOCATION:FL
ATTACH;FMTTYPE=image/jpeg:https://innovateorlando.io/wp-content/uploads/2025/11/c607faab8efc872a8f617bf64b39187f-1.jpg
END:VEVENT
BEGIN:VEVENT
DTSTART;TZID=America/New_York:20260901T120000
DTEND;TZID=America/New_York:20260901T130000
DTSTAMP:20260421T113858
CREATED:20251118T183048Z
LAST-MODIFIED:20260421T080224Z
UID:10000005-1788264000-1788267600@innovateorlando.io
SUMMARY:Women in Tech & Entrepreneurship - New Member Orientation
DESCRIPTION:Join us online every first Tuesday for a WTE New Member Orientation — learn about our community\, resources\, and how to thrive here!
URL:https://innovateorlando.io/event/women-in-tech-entrepreneurship-new-member-orientation-3/
LOCATION:FL
ATTACH;FMTTYPE=image/jpeg:https://innovateorlando.io/wp-content/uploads/2025/11/c607faab8efc872a8f617bf64b39187f-1.jpg
END:VEVENT
BEGIN:VEVENT
DTSTART;TZID=America/New_York:20260930T180000
DTEND;TZID=America/New_York:20260930T210000
DTSTAMP:20260421T113858
CREATED:20260304T084315Z
LAST-MODIFIED:20260420T175954Z
UID:10000224-1790791200-1790802000@innovateorlando.io
SUMMARY:NCS Hall of Fame 2026
DESCRIPTION:The M&S Hall of Fame honors and recognizes the accomplishments and contributions of individuals who have pioneered the development of MS&T.\n\n\nThe National Center for Simulation Modeling & Simulation Hall of Fame began in 2014 in partnership with the Orange County Government\, including the Office of the Mayor of Orange County and the Orange County Convention Center (OCCC). The M&S Hall of Fame honors and recognizes the accomplishments and contributions of individuals who have pioneered the development of modeling and simulation over the past 100 years.
URL:https://innovateorlando.io/event/ncs-hall-of-fame-2026/
LOCATION:Orange County Convention Center\, 9800 International Drive\, Orlando\, FL\, 32819\, United States
ATTACH;FMTTYPE=image/jpeg:https://innovateorlando.io/wp-content/uploads/2026/03/7d23f237362b477204d69fc66760b4a0-1.jpg
END:VEVENT
BEGIN:VEVENT
DTSTART;TZID=America/New_York:20261006T120000
DTEND;TZID=America/New_York:20261006T130000
DTSTAMP:20260421T113858
CREATED:20260113T022701Z
LAST-MODIFIED:20260421T080224Z
UID:10000103-1791288000-1791291600@innovateorlando.io
SUMMARY:Women in Tech & Entrepreneurship - New Member Orientation
DESCRIPTION:Join us online every first Tuesday for a WTE New Member Orientation — learn about our community\, resources\, and how to thrive here!
URL:https://innovateorlando.io/event/women-in-tech-entrepreneurship-new-member-orientation-12/
LOCATION:FL
ATTACH;FMTTYPE=image/jpeg:https://innovateorlando.io/wp-content/uploads/2025/11/c607faab8efc872a8f617bf64b39187f-1.jpg
END:VEVENT
BEGIN:VEVENT
DTSTART;TZID=America/New_York:20261103T120000
DTEND;TZID=America/New_York:20261103T130000
DTSTAMP:20260421T113858
CREATED:20260113T022701Z
LAST-MODIFIED:20260421T080224Z
UID:10000104-1793707200-1793710800@innovateorlando.io
SUMMARY:Women in Tech & Entrepreneurship - New Member Orientation
DESCRIPTION:Join us online every first Tuesday for a WTE New Member Orientation — learn about our community\, resources\, and how to thrive here!
URL:https://innovateorlando.io/event/women-in-tech-entrepreneurship-new-member-orientation-13/
LOCATION:FL
ATTACH;FMTTYPE=image/jpeg:https://innovateorlando.io/wp-content/uploads/2025/11/c607faab8efc872a8f617bf64b39187f-1.jpg
END:VEVENT
BEGIN:VEVENT
DTSTART;TZID=America/New_York:20261201T120000
DTEND;TZID=America/New_York:20261201T130000
DTSTAMP:20260421T113858
CREATED:20251118T183048Z
LAST-MODIFIED:20260421T080224Z
UID:10000006-1796126400-1796130000@innovateorlando.io
SUMMARY:Women in Tech & Entrepreneurship - New Member Orientation
DESCRIPTION:Join us online every first Tuesday for a WTE New Member Orientation — learn about our community\, resources\, and how to thrive here!
URL:https://innovateorlando.io/event/women-in-tech-entrepreneurship-new-member-orientation-4/
LOCATION:FL
ATTACH;FMTTYPE=image/jpeg:https://innovateorlando.io/wp-content/uploads/2025/11/c607faab8efc872a8f617bf64b39187f-1.jpg
END:VEVENT
END:VCALENDAR