BEGIN:VCALENDAR
VERSION:2.0
PRODID:-//Innovate Orlando - ECPv6.15.15//NONSGML v1.0//EN
CALSCALE:GREGORIAN
METHOD:PUBLISH
X-ORIGINAL-URL:https://innovateorlando.io
X-WR-CALDESC:Events for Innovate Orlando
REFRESH-INTERVAL;VALUE=DURATION:PT1H
X-Robots-Tag:noindex
X-PUBLISHED-TTL:PT1H
BEGIN:VTIMEZONE
TZID:America/New_York
BEGIN:DAYLIGHT
TZOFFSETFROM:-0500
TZOFFSETTO:-0400
TZNAME:EDT
DTSTART:20250309T070000
END:DAYLIGHT
BEGIN:STANDARD
TZOFFSETFROM:-0400
TZOFFSETTO:-0500
TZNAME:EST
DTSTART:20251102T060000
END:STANDARD
BEGIN:DAYLIGHT
TZOFFSETFROM:-0500
TZOFFSETTO:-0400
TZNAME:EDT
DTSTART:20260308T070000
END:DAYLIGHT
BEGIN:STANDARD
TZOFFSETFROM:-0400
TZOFFSETTO:-0500
TZNAME:EST
DTSTART:20261101T060000
END:STANDARD
BEGIN:DAYLIGHT
TZOFFSETFROM:-0500
TZOFFSETTO:-0400
TZNAME:EDT
DTSTART:20270314T070000
END:DAYLIGHT
BEGIN:STANDARD
TZOFFSETFROM:-0400
TZOFFSETTO:-0500
TZNAME:EST
DTSTART:20271107T060000
END:STANDARD
END:VTIMEZONE
BEGIN:VEVENT
DTSTART;TZID=America/New_York:20260609T190000
DTEND;TZID=America/New_York:20260609T210000
DTSTAMP:20260424T054429
CREATED:20260210T061337Z
LAST-MODIFIED:20260210T070332Z
UID:10000150-1781031600-1781038800@innovateorlando.io
SUMMARY:Python Dinner
DESCRIPTION:The Orlando Python User Group\nCome join fellow Pythonistas for good food and good discussion. Rather than having a set location\, drop a suggestion in the comments. A location will be selected and updated a week before the meeting. Previous suggestions can be carried over the the next month.\nIt doesn’t need to be downtown. Just make sure that they are ok with splitting checks and seating groups before everyone arrives.\nSee you all there! 🙂
URL:https://innovateorlando.io/event/python-dinner-5/
LOCATION:FL
ATTACH;FMTTYPE=image/avif:https://innovateorlando.io/wp-content/uploads/2026/02/highres_453002335.avif
END:VEVENT
END:VCALENDAR