BEGIN:VCALENDAR
VERSION:2.0
PRODID:-//Innovate Orlando - ECPv6.15.15//NONSGML v1.0//EN
CALSCALE:GREGORIAN
METHOD:PUBLISH
X-WR-CALNAME:Innovate Orlando
X-ORIGINAL-URL:https://innovateorlando.io
X-WR-CALDESC:Events for Innovate Orlando
REFRESH-INTERVAL;VALUE=DURATION:PT1H
X-Robots-Tag:noindex
X-PUBLISHED-TTL:PT1H
BEGIN:VTIMEZONE
TZID:America/New_York
BEGIN:DAYLIGHT
TZOFFSETFROM:-0500
TZOFFSETTO:-0400
TZNAME:EDT
DTSTART:20250309T070000
END:DAYLIGHT
BEGIN:STANDARD
TZOFFSETFROM:-0400
TZOFFSETTO:-0500
TZNAME:EST
DTSTART:20251102T060000
END:STANDARD
BEGIN:DAYLIGHT
TZOFFSETFROM:-0500
TZOFFSETTO:-0400
TZNAME:EDT
DTSTART:20260308T070000
END:DAYLIGHT
BEGIN:STANDARD
TZOFFSETFROM:-0400
TZOFFSETTO:-0500
TZNAME:EST
DTSTART:20261101T060000
END:STANDARD
BEGIN:DAYLIGHT
TZOFFSETFROM:-0500
TZOFFSETTO:-0400
TZNAME:EDT
DTSTART:20270314T070000
END:DAYLIGHT
BEGIN:STANDARD
TZOFFSETFROM:-0400
TZOFFSETTO:-0500
TZNAME:EST
DTSTART:20271107T060000
END:STANDARD
END:VTIMEZONE
BEGIN:VEVENT
DTSTART;TZID=America/New_York:20260527T173000
DTEND;TZID=America/New_York:20260527T193000
DTSTAMP:20260422T040256
CREATED:20260416T141355Z
LAST-MODIFIED:20260421T143037Z
UID:10000283-1779903000-1779910200@innovateorlando.io
SUMMARY:Ivanhoe Park Brewery Networking Event
DESCRIPTION:Join us for an evening of connection\, collaboration\, and community at Ivanhoe Park Brewing Company!\n\n\nAre you a Veteran Entrepreneur? – Join us for an evening of connection\, collaboration\, and community at Ivanhoe Park Brewing Company! This special networking event brings together veteran entrepreneurs\, business owners\, and professionals from across Central Florida for an opportunity to share ideas\, build partnerships\, and support one another’s success. \nWhether you’re launching your first venture\, growing an established business\, or looking to connect with like-minded veterans\, this event is designed to help you expand your network and open new doors. \nEnjoy great conversations\, local craft brews\, and the camaraderie that only comes from being part of the veteran business community. \nWhat to Expect: \n\nCasual networking in a relaxed atmosphere\nOpportunities to meet fellow veteran entrepreneurs and community partners\nInsights and resources to help you grow your business\n\nLet’s raise a glass to service\, success\, and the power of veteran entrepreneurship! 🍻 \nAdmission: Free (registration required)Dress Code: Business casual or comfortable attire \nMake sure you answer all of the questions when checking out.
URL:https://innovateorlando.io/event/ivanhoe-park-brewery-networking-event-3/
LOCATION:Ivanhoe Park Lager House\, 23 North Orange Blossom Trail\, Orlando\, FL\, 32805\, United States
ATTACH;FMTTYPE=image/jpeg:https://innovateorlando.io/wp-content/uploads/2026/04/89ff4a033f436c8004a7a6b75023f51a.jpg
END:VEVENT
BEGIN:VEVENT
DTSTART;TZID=America/New_York:20260527T190000
DTEND;TZID=America/New_York:20260527T210000
DTSTAMP:20260422T040256
CREATED:20260210T064958Z
LAST-MODIFIED:20260210T075246Z
UID:10000179-1779908400-1779915600@innovateorlando.io
SUMMARY:CitrusSec Meetup
DESCRIPTION:Central Florida CitySec\nCitrusSec is a Central Florida CitySec group located in the Orlando area. CitrusSec’s goal is to discuss topics of interest in a non-work\, non-vendor setting; preferably while drinking.
URL:https://innovateorlando.io/event/citrussec-meetup-6/
LOCATION:FL
ATTACH;FMTTYPE=image/avif:https://innovateorlando.io/wp-content/uploads/2026/02/highres_450220541-scaled.avif
END:VEVENT
END:VCALENDAR