BEGIN:VCALENDAR
VERSION:2.0
PRODID:-//Innovate Orlando - ECPv6.15.15//NONSGML v1.0//EN
CALSCALE:GREGORIAN
METHOD:PUBLISH
X-WR-CALNAME:Innovate Orlando
X-ORIGINAL-URL:https://innovateorlando.io
X-WR-CALDESC:Events for Innovate Orlando
REFRESH-INTERVAL;VALUE=DURATION:PT1H
X-Robots-Tag:noindex
X-PUBLISHED-TTL:PT1H
BEGIN:VTIMEZONE
TZID:America/New_York
BEGIN:DAYLIGHT
TZOFFSETFROM:-0500
TZOFFSETTO:-0400
TZNAME:EDT
DTSTART:20250309T070000
END:DAYLIGHT
BEGIN:STANDARD
TZOFFSETFROM:-0400
TZOFFSETTO:-0500
TZNAME:EST
DTSTART:20251102T060000
END:STANDARD
BEGIN:DAYLIGHT
TZOFFSETFROM:-0500
TZOFFSETTO:-0400
TZNAME:EDT
DTSTART:20260308T070000
END:DAYLIGHT
BEGIN:STANDARD
TZOFFSETFROM:-0400
TZOFFSETTO:-0500
TZNAME:EST
DTSTART:20261101T060000
END:STANDARD
BEGIN:DAYLIGHT
TZOFFSETFROM:-0500
TZOFFSETTO:-0400
TZNAME:EDT
DTSTART:20270314T070000
END:DAYLIGHT
BEGIN:STANDARD
TZOFFSETFROM:-0400
TZOFFSETTO:-0500
TZNAME:EST
DTSTART:20271107T060000
END:STANDARD
END:VTIMEZONE
BEGIN:VTIMEZONE
TZID:-04:00
END:VTIMEZONE
BEGIN:VEVENT
DTSTART;TZID=America/New_York:20260311T083000
DTEND;TZID=America/New_York:20260311T100000
DTSTAMP:20260422T044435
CREATED:20260115T033912Z
LAST-MODIFIED:20260210T071003Z
UID:10000116-1773217800-1773223200@innovateorlando.io
SUMMARY:1 Million Cups - Orlando Weekly Meetup
DESCRIPTION:1 Million Cups – Orlando\nIf you love and support entrepreneurship and small business\, there’s no better place to be on Wednesday mornings! We meet every week to support and learn from each other and entrepreneurs around the country.\nCreated by the Kauffman Foundation (one of the largest philanthropic\, entrepreneurial & venture capital organizations in the world)\, we host a weekly educational meetup where entrepreneurs educate us about their business ideas for 6 minutes\, and we share our wisdom and feedback for 20.\nEach week\, an entrepreneur tells us about their business\, and we ask questions and provide feedback that not only teaches us more but also helps the presenters hone their own presentations.\nThis week\, we will hear from Frank Ortega of Pupstar\, the first pet perfume with a shiny finish. We will also hear from Randall Mauldin of SCALEHound.AI\, a system that designs and deploys AI-powered workflows using the proprietary SCALE Methodology.\nWe host our weekly events at **TechHub Orlando\, 36 W. Pine\, Orlando\, FL 32801.**\nParking is available at the 55W garage and the Garland surface lot (between Pine and Central) for $2.00/hour.\nYou can find more information at (https://bit.ly/1MCOrlando). You can also register to attend our meeting via Zoom at (https://bit.ly/12312025).\nFinally\, we’re giving away swag to people who come to 4\, 8\, and 12 consecutive meetings.\n* 4 = 1MC travel mug.\n* 8 = 1MC t-shirt.\n* 12 = 1MC collectible ceramic mug.
URL:https://innovateorlando.io/event/1-million-cups-orlando-weekly-meetup-13/
LOCATION:FL
ATTACH;FMTTYPE=image/avif:https://innovateorlando.io/wp-content/uploads/2026/01/highres_523082957.avif
END:VEVENT
BEGIN:VEVENT
DTSTART;TZID=America/New_York:20260311T090000
DTEND;TZID=America/New_York:20260311T110000
DTSTAMP:20260422T044435
CREATED:20260123T190906Z
LAST-MODIFIED:20260123T190906Z
UID:10000132-1773219600-1773226800@innovateorlando.io
SUMMARY:T2COM\, A New Front Door to the Army\, Orlando\, FL
DESCRIPTION:https://ausa.my.site.com/OnlineCommunity/s/community-event?id=a2VPn000003DRv7MAG \n  \nThis is a free\, in-person presentation for senior industry only (BD and above) \nThis event will not be live streamed \nThe registration form is at the bottom of this page \nScope: Understand Army needs and how your solutions could support their next breakthrough \nObjective: The way industry works with the Army is changing. \nWe are inviting industry senior leaders to participate in a briefing co-hosted by the U.S. Army Transformation and Training Command (T2COM) and the Association of the United States Army (AUSA). \nHear directly from LTG David J. Francis\, a senior leader from T2COM headquarters\, as he explains how industry can engage the Army through this new command\, unifying the former U.S. Army Training and Doctrine Command and U.S. Army Futures Command. \n  \n 
URL:https://innovateorlando.io/event/t2com-a-new-front-door-to-the-army-orlando-fl/
LOCATION:FL
END:VEVENT
BEGIN:VEVENT
DTSTART;TZID=America/New_York:20260311T093000
DTEND;TZID=America/New_York:20260311T110000
DTSTAMP:20260422T044435
CREATED:20260210T061525Z
LAST-MODIFIED:20260210T071417Z
UID:10000152-1773221400-1773226800@innovateorlando.io
SUMMARY:Coffee & WordPress at Foxtail Coffee - Howell Branch
DESCRIPTION:WordPress Orlando\nThis meetup is come and go as you please. There is no set agenda. We will have both WordPress & WooCommerce experts on-hand to help answer questions.\n* What we’ll do\nAt our coffee meetups we discuss projects that we’re working on\, ask questions of one another about any difficulties that we may be having\, or simply catch up. This is a low-pressure environment\, and we’re all here to share with one another.\n* What to bring\nIf you are coming specifically for WordPress help:\n* Bring your charged laptop with you\n* Bring whatever logins are needed to get into your site\n* Be ready to take notes\n* Be respectful of the time of everyone else attending\n* Be willing to accept that some problems can’t be solved in 15 minutes and may require more help than we can offer here\n* Buy a drink or snack from the coffee shop. They let us use the space for free!\n• Important to know\nWe use the same Code of Conduct for our Meetup that we use for WordCamp Orlando\, and it can be found here: https://2019.orlando.wordcamp.org/code-of-conduct/\nPlease be kind and courteous to all attendees and employees!
URL:https://innovateorlando.io/event/coffee-wordpress-at-foxtail-coffee-howell-branch-2/
LOCATION:FL
ATTACH;FMTTYPE=image/avif:https://innovateorlando.io/wp-content/uploads/2026/02/highres_509649261-scaled.avif
END:VEVENT
BEGIN:VEVENT
DTSTART;TZID=America/New_York:20260311T173000
DTEND;TZID=America/New_York:20260311T193000
DTSTAMP:20260422T044435
CREATED:20260304T042837Z
LAST-MODIFIED:20260311T044306Z
UID:10000216-1773250200-1773257400@innovateorlando.io
SUMMARY:Women in Tech & Entrepreneurship - March Gainesville Chapter Happy Hour
DESCRIPTION:a casual gathering of high-performing\, non-conforming women founders\, tech workers\, VCs\, and hype girls\n\n\nJoin the Women in Tech & Entrepreneurship (WTE) Gainesville Chapter for our March Social Mixer at Grand Schema Brewing! \nCome together with local founders\, tech innovators\, creatives\, and community builders for an evening of connection\, conversation\, and craft brews. This isn’t a formal workshop or panel — it’s a chance to slow down after the day\, meet folks who get your hustle\, and expand your circle in a relaxed\, friendly setting with Women in Tech & Entrepreneurship. \nWhether you’re swapping insights over a pint\, sharing stories with new friends\, or just enjoying the vibrant Depot Park energy\, this happy hour is all about strengthening community\, sparking collaboration\, and celebrating the brilliant people shaping Gainesville’s tech and entrepreneurial landscape.. \n \nWhat to Expect:\nWarm Welcome: Come as you are\, come when you can. There’s no such thing as late\, over dressed\, underdressed – whatever – at a WTE event. At our events you’ll meet a warm and welcoming community of supportive\, ambitious women who want to meet you! \nBetter Networking: We think differently at Women in Tech & Entrepreneurship. We want to connect about ideas\, industry disruptions\, personal passions\, and big audacious dreams. We keep our events simple so we can focus our energy on authentic connections\, and the culture we’ve created leads to better connections and deeper relationships for our members. \nInteresting People at Every Stage of Their Journeys: Whether you’re a seasoned professional or just starting your journey\, there’s someone here for you. We’re proud to be 3X more diverse than the tech sector as a whole and we’re all on unique journeys – which means we all offer out-of-the-box perspectives to help every member breakthrough and level up. \n\n\nVenue Spotlight:Grand Schema Brewing at Depot Park\nThis month\, Women in Tech & Entrepreneurship is gathering at Grand Scheme Brewing — a cozy\, craft-centric brewery nestled in the historic South Main Station of Gainesville. Known for its refreshing selection of house-made beers and welcoming taproom vibe\, Grand Scheme blends creative brewing with a relaxed atmosphere that feels just right for slowing down\, connecting\, and swapping stories after a long day.  ￼ \nWith its chill energy\, locally beloved brews\, and community-friendly space (yep\, it’s even dog-friendly indoors!)\, Grand Scheme Brewing sets the stage for Women in Tech & Entrepreneurship to mingle\, laugh\, and build meaningful relationships over quality drinks and genuine conversation. Whether you’re sampling something new from the tap or just soaking up the laid-back Gainesville brewery scene\, this spot brings the perfect mix of craft flavor and community spark to our March meetup. \n\n\n\nAbout Women in Tech & Entrepreneurship\nWomen in Tech & Entrepreneurship (WTE) operates on a unique\, dues-free\, member-led model with local chapters across multiple cities and one unifying\, virtual hub for member networking and connection. WTE offers a dynamic platform where women can access educational content\, business resources\, industry insights\, and near-peer mentorship with other ambitious leaders\, all without the burden of membership fees.
URL:https://innovateorlando.io/event/women-in-tech-entrepreneurship-march-gainesville-chapter-happy-hour/
LOCATION:Grand Scheme Brewing\, 619 South Main Street\, #South Unit 1B\, Gainesville\, FL\, 32601\, United States
ATTACH;FMTTYPE=image/jpeg:https://innovateorlando.io/wp-content/uploads/2026/03/3b8c1edd6d4d337462fa12eb807dda36.jpg
END:VEVENT
BEGIN:VEVENT
DTSTART;TZID=-04:00:20260311T180000
DTEND;TZID=-04:00:20260311T200000
DTSTAMP:20260422T044435
CREATED:20260211T044925Z
LAST-MODIFIED:20260311T074303Z
UID:10000185-1773252000-1773259200@innovateorlando.io
SUMMARY:Lady Devs dinner!
DESCRIPTION:Join the Lady Devs for dinner this March! drinks & apps provided by ODevs.
URL:https://innovateorlando.io/event/lady-devs-dinner/
LOCATION:Azteca D’Oro\, 3130 Daniels Road\, Winter Garden\, FL\, 34787\, United States
GEO:28.523851;-81.58693
X-APPLE-STRUCTURED-LOCATION;VALUE=URI;X-ADDRESS=Azteca D’Oro 3130 Daniels Road Winter Garden FL 34787 United States;X-APPLE-RADIUS=500;X-TITLE=3130 Daniels Road:geo:-81.58693,28.523851
END:VEVENT
END:VCALENDAR